Workbook

Sheet SUMMARY 
B1: LOT 1: Kasulu TC (5 WASH, 1 with dormitory)
B2: SUMMARY
B4: S/N | C4: Item | D4: Unit | E4: Qnt | F4: Unit Cost (EUR)
B5: 1 | C5: Completion of remaining works for an 84 Girls' Dormitory at Mwanga Secondary School in Kasulu TC | D5: No | E5: 1 | F5: ='84 Dormitory Mwanga'!H422 -> 0
B6: 2 | C6: Renovation of WASH facility at Mwanga Secondary School in Kasulu TC | D6: No | E6: 1 | F6: =MWANGA!F187 -> 0
B7: 3 | C7: Completion of remaining works for a WASH facility at Ruhita Secondary School in Kasulu TC | D7: No | E7: 1 | F7: =RUHITA!F173 -> 0
B8: 4 | C8: Completion of remaining works for a WASH facility at Kigodya Secondary School in Kasulu TC | D8: No | E8: 1 | F8: =KIGODYA!G174 -> 0
B9: 5 | C9: Completion of remaining works for WASH facility at Kinkati Secondary School in Kasulu TC | D9: No | E9: 1 | F9: ='KINKATI '!G171 -> 0
B10: 6 | C10: Completion of remaining works for a WASH facility at Nyansha Secondary School in Kasulu TC | D10: No | E10: 1 | F10: =NYANSHA!G177 -> 0
B11: TOTAL (EURO) VAT EXCLUSIVE | F11: =SUM(F5:F10) -> 0

Sheet 84 Dormitory Mwanga
D1: PRELIMINARIES
B4: Bill of Quantities For the Completion of Remaining Construction Works for a Girls' dormitory -Capacity 84 at Mwanga Kasulu secondary school - Kasulu TC
B5: Girls Dorm-84 - Preliminaries
B6: S/No | C6: Item | D6: Unit | E6: Qty | F6: Rate (TZS) | G6: Rate (EURO) | H6: Amount (EURO)
B8: 1 | C8: The dormitory has been constructed by approx. 50% percentage of walling completion is 65 and roofing is also approx. 65%
B10: A | C10: The Contractor shall be deemed to have visited the site and satisfied himself as to:- The nature of the site, The amount of bush, rubbish or debris to be cleared away before commencement, access to the site, availability of materials and the like. All the cost is for contractor
B11: B | C11: Allowance for material testing | D11: Item | E11: 1 | H11: =G11*E11 -> 0
B12: C | C12: Secure performance bond and insurance | D12: Item | E12: 1 | H12: =G12*E12 -> 0
B13: D | C13: Preparation of as built drawings | D13: Item | E13: 1 | H13: =G13*E13 -> 0
B14: E | C14: Mobilization and demobilization of tools, materials, manpower, and equipment. | D14: Item | E14: 1 | H14: =G14*E14 -> 0
B15: F | C15: Provide site food allowance for 10 VETA students undertaking practical industrial training on the project, including meals and welfare support during the training period. The Contractor shall facilitate skills development opportunities for trainees in relevant construction trades, with special encouragement for the participation of youth and female students, as directed by the Engineer. Will be sleeping at site as workers in a temporly on site shade. Payment to be made upon submission and acceptance of Students' attendance sheet | D15: Month | E15: 3 | F15: =10*150 -> 1500 | H15: =G15*E15 -> 0
B16: G | C16: Water for the works: The contractor shall allow for all necessary clean fresh water for the works, including that required by sub-contractors and for any temporary plumbing meters and storage facilities and pay all charges in connection therewith and clear away on completion and make good works disturbed. | D16: Item | E16: 1 | H16: =G16*E16 -> 0
C17: SUB-TOTAL Element no 1: preliminaries | H17: =SUM(H10:H16) -> 0
C20: Item | D20: Unit | E20: Qnt | F20: Rate | G20: Rate | H20: Contract Amount
AL21: Area for 84 | AM21: =33*30 -> 990
C22: RAMPS and STEPS (total of 7 ramps)
B23: A | C23: Foundation: Construct a 400mm thick stone masonry wall includind excavation and backfilling | D23: m3 | E23: 49.7 | F23: 60000 | H23: =E23*G23 -> 0
B24: B | C24: 300 mm thick hard core | D24: m2 | E24: 51 | F24: 35000 | H24: =E24*G24 -> 0
B25: C | C25: 100 mm thick, Plain vibrated concrete slab grade 15 including formworks and curing | D25: m2 | E25: 51 | F25: 35000 | H25: =E25*G25 -> 0
C27: TOTAL ELEMENT NO 2: SUBSTRUCTURE | H27: =SUM(H23:H26) -> 0
C30: SUPERSTRUCTURE - Walls and Frames
C32: EXTERNAL AND INTERNAL WALLING
B33: A | C33: Solid 230mm Thick ISSB walling external and internal walls, cost to include extraction and preparation of soil, block fabrication, curing and installation (with the strength of 3-5 MPa) | D33: M2 | E33: 265 | F33: 45000 | H33: =E33*G33 -> 0
B34: B | C34: Perforated bricks wall on top of ring beam, 230mm Thick hydraform external walling. Cost to include extraction and preparation of soil, block fabrication, curing and installation (with the strength of 3-5 MPa) | D34: M2 | E34: 88.4 | F34: 45000 | H34: =E34*G34 -> 0
C35: CONCRETE WORK:
C36: Reinforced insitu concrete grade ‘25’ including vibrating around reinforcements.
B38: C | C38: Horizontal beams ring beams | D38: M3 | E38: 8 | F38: 350000 | H38: =E38*G38 -> 0
C40: REINFORCEMENTS
C42: High tensile steel bar reinforcement -fy 500, including cutting to length, bending, hoisting and fixing and all necessary tying wires and spacing blocks
B44: D | C44: 12mm diameter | D44: Kgs | E44: 435 | F44: 4000 | H44: =E44*G44 -> 0
B46: E | C46: 8mm diameter | D46: Kgs | E46: 125 | F46: 4000 | H46: =E46*G46 -> 0
B48: F | C48: M6 bars for truss arnchoring, to be casted with ring beams and potrudes out of conrete by 400mm length | D48: Kgs | E48: 6 | F48: 4000 | H48: =E48*G48 -> 0
C50: FORMWORK TO INSITU CONCRETE
B52: G | C52: Supply and install formwork, including all necessary tools and materials for preparation and installation, as well as removal of the formwork once completed. | D52: M2 | E52: 74 | F52: 35000 | H52: =E52*G52 -> 0
B53: H | C53: Supply and cast 75mm diameter black pipe column to suport roof at veranda, make a hole and fix a 10mm bolt of 150mm long per every column | D53: No | E53: 15 | F53: 200000 | H53: =E53*G53 -> 0
C55: TOTAL ELEMENT NO 3: SUPERSTRUCTURE - Walls and Frames | H55: =SUM(H32:H54) -> 0
C57: Roofing and water havesting
B58: A | C58: Truss Fabrication, Installation and fixing purlins spaced 0.9m c/c along rafter of every truss. fix purlins with 5"nails then tie with core wire securing to rafer. • Materials: Supply well-seasoned and treated timber. Timber sections to be used: Rafters: 50x150 mm. - eucaliptus Tie beams: 50x150 mm. eucaliptus Wall plates and struts: 50x100 mm. eucaliptus Purlins: 50x70 mm. - Pine soft wood timber • Fabrication: Fabricate the trusses as per the provided drawings. Ensure the trusses are fabricated with a rafter slope of 8 degrees. • Installation: Install the fabricated trusses on the ring beam with a spacing of 1.4 meters center-to-center (c/c). Anchor the trusses to the ring beam using core M6 steel bars casted in the ring beam. Use two bolts (12mm diameter) with nuts and 2inches diameter washers to secure the joints of rafters and tie beams. • Overhangs: o The external overhang is to be 1.5 meters long. o The internal overhang at the hallway is to be 0.8 meters long. • Additional Provisions: o All tools, nails, and materials necessary for the truss fabrication and installation are to be included Note: Trusses spanning the entire width of the building will be counted. The shorter trusses will be estimated to form a complete large truss for payment calculation. | D58: No | E58: 15 | F58: 100000 | H58: =E58*G58 -> 0
B59: B | C59: Supply and fix 28-gauge IT5 profiled roofing sheets with a resin-coated finish, having a minimum Solar Reflectance Index (SRI) of 78, solar reflectance of not less than 70%, and thermal emittance of not less than 0.80, to reduce heat absorption and improve indoor thermal comfort. Roofing sheets shall be fixed to treated pine timber purlins using 3.5-inch roofing nails with neoprene/rubber washers, complete with all ridge caps, flashings, laps, fixings, sealants, and accessories necessary for a complete weatherproof roofing system, in accordance with the approved drawings and specifications. | D59: m2 | E59: 245 | F59: 35000 | H59: =E59*G59 -> 0
B60: C | C60: Supply and fix a Fascia board: use well seasoned and treated pine timber - 25x200mm. fix brackets with screw of a lenght of 1.5 inches , fixed at 600mm c/c, with approved | D60: m | E60: 60 | F60: 15000 | H60: =E60*G60 -> 0
...

Sheet KINKATI 
B2: Bill of Quantities For the Completion of remaining Works for a WASH facility at Kinkati Secondary School - Kasulu TC Note: Pre executed quantities will not be paid.
C3: KINKATI WASH
B4: S/No | C4: Item | D4: Unit | E4: Qty | F4: Rate (EURO) | G4: Total (EURO)
C5: This Wash facility is at the finishing level with few works to be completed. The contractor is required to fill relevant market prices for works completion. | F5: 0 | G5: =F5*E5 -> 0
C7: RAMPS (total of 2 ramps)
B8: A | C8: Foundation: Construct a 400mm thick stone masonry wall including excavations and backfilling | D8: m3 | E8: 8 | G8: =E8*F8 -> 0
B9: B | C9: 400 mm thick hard core | D9: m2 | E9: 9 | G9: =E9*F9 -> 0
B10: C | C10: 100 mm thick, Plain vibrated concrete slab grade 15 including formworks and curing | D10: m2 | E10: 9 | G10: =E10*F10 -> 0
C12: TOTAL FOUNDATION AND WALLING | G12: =SUM(G8:G11) -> 0
B14: 4 | C14: DOORS | G14: =F14*E14 -> 0
C15: Doors Shutter Prime quality hardwood paneled doors mninga or other equal and approved hardwood 45mm Thick panelled single door Mahogany timber finish, comprising of 45 x 150mm top and middle rails, 45 x 150mm stiles and 45 x 200 bottom rail, panels filled in with and including 35mm thick moulded boarding tongued and grooved all round rails. fix using heavy duty three hinges of 4" per door Including Supply and fix the following "UNION" make or other equal and approved iron-mongery To softwood, hardwood or the like; fixing with screws ;- 3-Lever Mortise lock with furniture, Toiles and Bathroom lock with indicating bolt, 100mm Brass butt hinges | G15: =F15*E15 -> 0
B16: A | C16: Ditto 800 x 2000mm high. ( toilets and changing room) | D16: No | E16: 11 | G16: =F16*E16 -> 0
B17: B | C17: Supply and install a 1050 mm × 2000 mm high door for the Persons with Disabilities (PWD) toilet, complete with frame, ironmongery, and all necessary fixing accessories. The door shall be of solid construction, without ventilation openings, glazing, or burglar bars. The door leaf shall be hung on 100mm long three heavy-duty double-swing hinges, fixed at three equally spaced points to the frame, allowing the door to swing in both directions. The double-swing arrangement shall enable wheelchair users to open the door by pushing from either side, facilitating ease of access and compliance with accessibility requirements. Installation shall include all locks, handles, door stops, and fittings required for a complete and functional door assembly, in accordance with the approved drawings, specifications, and the Engineer's instructions. | D17: No | E17: 1 | G17: =F17*E17 -> 0
B18: C | C18: Metal door 1500x2000mm high ( at main entrance). Frame should be fixed to walls by using 8mm diameter fisher bolts of 150mm long fix at four points for each door frame jambs.- as per consultant aproval | D18: No | E18: 1 | G18: =F18*E18 -> 0
B19: D | C19: Metal door 900x2000mm high ( at incinerator area ). Frame should be fixed to walls by using 8mm diameter fisher bolts of 150mm long fix at four points for each door frame jambs.- as per consultant aproval | D19: No | E19: 1 | G19: =F19*E19 -> 0
C21: Supply and fix Door frames: Hardwood mininga or other equal and approved hardwood. Door frame Fixing: must use 4 pcs 8 mm diameter, 6” long fisher bolts per frame (fixed at jambs). | G21: =F21*E21 -> 0
B22: E | C22: Ditto 850x2800mm high (Changing room and incinerator) | D22: No | E22: 1 | G22: =F22*E22 -> 0
B23: F | C23: 850x2000mm , high no vents, no glass, no buglar bars ( for Toilets) | D23: No | E23: 10 | G23: =F23*E23 -> 0
B24: G | C24: 1050x2000mm high no vents, no glass, no buglar bars ( for Toilets-PWD) | D24: No | E24: 1 | G24: =F24*E24 -> 0
G25: =F25*E25 -> 0
C26: (T&L) TOTAL DOORS | G26: =SUM(G15:G25) -> 0
C28: WINDOWS | G28: =F28*E28 -> 0
B29: A | C29: Supply and fix painted metal windows of 1 inch pipe sized for 1000x600 High ( Toilet) complete with galvanized wire mesh, including all necessary frames, fixings, painting/coating, and installation as specified | D29: No | E29: 12 | G29: =F29*E29 -> 0
C31: (T&L) TOTAL WINDOW | G31: =SUM(G29:G30) -> 0
G32: =F32*E32 -> 0
C33: FINISHING WORKS & DECORATION | G33: =F33*E33 -> 0
B34: 6 | C34: Finishing | G34: =F34*E34 -> 0
B35: A | C35: Plastering 25mm thick 1:3 cement sand to foundation wall and to internal walls | D35: m2 | E35: 3 | G35: =F35*E35 -> 0
B36: B | C36: water proof plaster in inernal toilet walls and terrazzo to laundry and Around dhobi sinks | D36: m2 | E36: 69.16
C37: Skim internal walls with water proof cement slurry mixed with cream color pigments to toilet rooms 1.5m high up to window level | D37: m2 | E37: 100 | G37: =F37*E37 -> 0
B38: C | C38: Carefully finish the terrazzo works by scrubing and polishing Terrazzo floor incl 150mm high skirtings to an acceptable work and client's satisfaction. ( Terrazzo is existing it only needs to be well scrubbed and polished) | D38: m2 | E38: 91 | G38: =F38*E38 -> 0
B39: D | C39: 50mm thick Terrazzo finishing to Dhobi sinks | D39: m2 | E39: 35 | G39: =F39*E39 -> 0
B40: D | C40: Vanish exernal ISSB wall | D40: m2 | E40: 80.29 | G40: =F40*E40 -> 0
B41: E | C41: Repeat Painting one coats of bituminous paint to foundation walls, internal walls and to beams. | D41: m2 | E41: 31.08 | G41: =F41*E41 -> 0
B42: F | C42: Painting three coats of burley brown bituminous paint to trusses and white color to fascia board | D42: Item | E42: 1 | G42: =F42*E42 -> 0
B43: G | C43: Supply and fix 150 mm thick concrete coping (RC grade 20 including formwork use 4Y12 and Y8-200c/c), weathered and throated, with bevelled fair-faced exposed surfaces, hoisted into position and bedded and pointed in 1:3 cement:sand mortar. The coping shall incorporate a 75 mm overhang on both sides of the wall and a 10 mm deep continuous drip groove beneath each overhang to prevent water from tracking onto the wall faces. The top surface shall be smooth and weathered with a minimum 0.5% cross fall to shed water away from the wall. All exposed surfaces shall be true, level, and free from defects, complete in accordance with the drawings and the Engineer's instructions. | D43: m | E43: 6 | G43: =F43*E43 -> 0
C45: (T&L) TOTAL FINISHING | G45: =SUM(G35:G44) -> 0
C47: PLUMBING AND SANITARY INSTALLATION
C48: Supply and install and test ; Plumbing | G48: =F48*E48 -> 0
B49: A | C49: Wall-Hung Wash Hand Basin Supply and install a 420 × 510 mm white vitreous china wall-hung wash hand basin, complete with 12 mm pillar taps, 32 mm chromium-plated chain waste, 32 mm plastic bottle trap, concealed brackets, fixing clamps, and all necessary accessories. Install in the changing/women's room and disabled toilet room as shown on the drawings. The basin shall be securely fixed to the wall using approved brass screws and concealed supports, with no floor support. All plumbing pipework and fittings shall be enclosed within a neat casing to conceal them from view. The installation shall include all plumbing connections, sealing, testing, and commissioning, complete in accordance with the drawings and the Engineer's instructions. | D49: No | E49: 2 | G49: =F49*E49 -> 0
...

Sheet RUHITA
A2: Bill of Quantities For the Completion of remaining works for a WASH facility at Ruhita Secondary School Note: Pre executed quantities will not be paid.
B3: RUHITA WASH
A4: S/No | B4: Item | C4: Unit | D4: Qty | E4: Rate (EURO) | F4: Total (EURO)
B5: This Wash facility is at the finishing level with few works to be completed. The contractor is required to fill relevant market prices for works completion. | E5: 0 | F5: =E5*D5 -> 0
B7: RAMPS (total of 2 ramps)
A8: A | B8: Foundation: Construct a 300mm thick stone masonry wall | C8: m3 | D8: 8 | F8: =D8*E8 -> 0
A9: B | B9: 400 mm thick hard core | C9: m2 | D9: 9 | F9: =D9*E9 -> 0
A10: C | B10: 100 mm thick, Plain concrete slab grade 15 | C10: m2 | D10: 9 | F10: =D10*E10 -> 0
B12: TOTAL FOUNDATION AND WALLING | F12: =SUM(F8:F11) -> 0
A14: 4 | B14: DOORS | E14: 0 | F14: =E14*D14 -> 0
B15: Doors Shutter Prime quality hardwood paneled doors mninga or other equal and approved hardwood 45mm Thick panelled single door Mahogany timber finish, comprising of 45 x 150mm top and middle rails, 45 x 150mm stiles and 45 x 200 bottom rail, panels filled in with and including 35mm thick moulded boarding tongued and grooved all round rails. fix using heavy duty three hinges of 4" per door Including Supply and fix the following "UNION" make or other equal and approved iron-mongery To softwood, hardwood or the like; fixing with screws ;- 3-Lever Mortise lock with furniture, Toiles and Bathroom lock with indicating bolt, 100mm Brass butt hinges | F15: =E15*D15 -> 0
A16: A | B16: Ditto 800 x 2000mm high. ( toilets and changing room) | C16: No | D16: 11 | F16: =E16*D16 -> 0
A17: B | B17: Supply and install a 1050 mm × 2000 mm high door for the Persons with Disabilities (PWD) toilet, complete with frame, ironmongery, and all necessary fixing accessories. The door shall be of solid construction, without ventilation openings, glazing, or burglar bars. The door leaf shall be hung on 100mm long three heavy-duty double-swing hinges, fixed at three equally spaced points to the frame, allowing the door to swing in both directions. The double-swing arrangement shall enable wheelchair users to open the door by pushing from either side, facilitating ease of access and compliance with accessibility requirements. Installation shall include all locks, handles, door stops, and fittings required for a complete and functional door assembly, in accordance with the approved drawings, specifications, and the Engineer's instructions. | C17: No | D17: 1 | F17: =E17*D17 -> 0
A18: C | B18: Metal door 1500x2000mm high ( at main entrance). Frame should be fixed to walls by using 8mm diameter fisher bolts of 150mm long fix at four points for each door frame jambs.- as per consultant aproval | C18: No | D18: 1 | F18: =E18*D18 -> 0
A19: D | B19: Metal door 900x2000mm high ( at incinerator area ). Frame should be fixed to walls by using 8mm diameter fisher bolts of 150mm long fix at four points for each door frame jambs.- as per consultant aproval | C19: No | D19: 1 | F19: =E19*D19 -> 0
F21: =E21*D21 -> 0
B22: Supply and fix Door frames: Hardwood mininga or other equal and approved hardwood. Door frame Fixing: must use 4 pcs 8 mm diameter, 6” long fisher bolts per frame (fixed at jambs). | F22: =E22*D22 -> 0
A23: E | B23: Ditto 850x2800mm high (Changing room and incinerator) | C23: No | D23: 1 | F23: =E23*D23 -> 0
A24: F | B24: 850x2000mm , high no vents, no glass, no buglar bars ( for Toilets) | C24: No | D24: 10 | F24: =E24*D24 -> 0
A25: G | B25: 1050x2000mm high no vents, no glass, no buglar bars ( for Toilets-PWD) | C25: No | D25: 1 | F25: =E25*D25 -> 0
B27: (T&L) TOTAL DOORS | F27: =SUM(F16:F26) -> 0
B29: WINDOWS | F29: =E29*D29 -> 0
A30: A | B30: Supply and fix painted metal windows of 1 inch pipe sized for 1000x600 High ( Toilet) complete with galvanized wire mesh, including all necessary frames, fixings, painting/coating, and installation as specified | C30: No | D30: 12 | F30: =E30*D30 -> 0
B32: (T&L) TOTAL WINDOW | F32: =SUM(F29:F30) -> 0
B34: FINISHING WORKS & DECORATION | F34: =E34*D34 -> 0
A35: 6 | B35: Finishing | F35: =E35*D35 -> 0
A36: A | B36: Plastering 25mm thick 1:3 cement sand to foundation wall and to internal walls | C36: m2 | D36: 30 | F36: =E36*D36 -> 0
A37: B | B37: water proof plaster in inernal toilet walls and terrazzo to laundry and Around dhobi sinks | C37: m2 | D37: 69.16 | E37: N/A
B38: Skim ineranl walls with water proof cement slurry mixed with cream color pigments to toilet rooms 1.5m high up to window level | C38: m2 | D38: 100 | F38: =E38*D38 -> 0
A39: C | B39: Carefully finish the terrazzo works by scrubing and polishing Terrazzo floor incl 150mm high skirtings to an acceptable work and client's satisfaction. ( Terrazzo is existing it only needs to be well scrubbed and polished) | C39: m2 | D39: 91 | F39: =E39*D39 -> 0
A40: D | B40: 50mm thick Terrazzo finishing to Dobhi sinks | C40: m2 | D40: 35 | F40: =E40*D40 -> 0
A41: D | B41: Vanish exernal ISSB wall | C41: m2 | D41: 80.29 | F41: =E41*D41 -> 0
A42: E | B42: Repeat Painting one coats of bituminous paint to foundation walls, internal walls and to beams. | C42: m2 | D42: 31.08 | F42: =E42*D42 -> 0
A43: F | B43: Painting three coats of brown bituminous paint to trusses and white color to fascia board | C43: Item | D43: 1 | F43: =E43*D43 -> 0
A44: G | B44: Supply and fix 150 mm thick concrete coping (RC grade 20 including formwork use 4Y12 and Y8-200c/c), weathered and throated, with bevelled fair-faced exposed surfaces, hoisted into position and bedded and pointed in 1:3 cement:sand mortar. The coping shall incorporate a 75 mm overhang on both sides of the wall and a 10 mm deep continuous drip groove beneath each overhang to prevent water from tracking onto the wall faces. The top surface shall be smooth and weathered with a minimum 0.5% cross fall to shed water away from the wall. All exposed surfaces shall be true, level, and free from defects, complete in accordance with the drawings and the Engineer's instructions. | C44: m | D44: 6 | F44: =E44*D44 -> 0
B46: (T&L) TOTAL FINISHING | F46: =SUM(F36:F45) -> 0
B48: PLUMBING AND SANITARY INSTALLATION
B49: Supply and install and test ; Plumbing | F49: =E49*D49 -> 0
A50: A | B50: Wall-Hung Wash Hand Basin Supply and install a 420 × 510 mm white vitreous china wall-hung wash hand basin, complete with 12 mm pillar taps, 32 mm chromium-plated chain waste, 32 mm plastic bottle trap, concealed brackets, fixing clamps, and all necessary accessories. Install in the changing/women's room and disabled toilet room as shown on the drawings. The basin shall be securely fixed to the wall using approved brass screws and concealed supports, with no floor support. All plumbing pipework and fittings shall be enclosed within a neat casing to conceal them from view. The installation shall include all plumbing connections, sealing, testing, and commissioning, complete in accordance with the drawings and the Engineer's instructions. | C50: No | D50: 2 | F50: =E50*D50 -> 0
A51: B | B51: Supply and install a complete disabled toilet suite, comprising an accessible floor-mounted vitreous china washdown WC pan with matching close-coupled or low-level cistern, a wash hand basin, 4 No. stainless steel grab rails, and 1 No. adjustable folding support rail, complete with all brackets, fixings, pipework connections, and accessories required for a complete installation. The WC pan shall be specifically designed for disabled access applications, with a seat height of approximately 450-480 mm above finished floor level, complete with heavy-duty toilet seat and cover. All grab rails and the folding support rail shall be manufactured from Grade SS304 stainless steel. The folding support rail shall extend at least 100 mm beyond the front edge of the WC pan to provide adequate support during transfer and use. The suite shall be of RAK Ceramics manufacture or approved equivalent and shall include all necessary fittings, fixing accessories, testing, and commissioning. Installation shall comply with the approved drawings, accessibility requirements, manufacturer's recommendations, and the Engineer's instructions. | C51: No | D51: 1 | F51: =E51*D51 -> 0
...

Sheet NYANSHA
B2: Bill of Quantities For the Completion of remaining works for a WASH facility at Nyansha Sec School in Kasulu TC Note: Pre executed quantities will not be paid.
C3: NYANSHA WASH
B4: S/No | C4: Item | D4: Unit | E4: Qty | F4: Rate (EURO) | G4: Total (EURO)
C5: This Wash facility is at the finishing level with few works to be completed. The contractor is required to fill relevant market prices for works completion. | F5: 0 | G5: =F5*E5 -> 0
C7: RAMPS (total of 2 ramps)
B8: A | C8: Foundation: Construct a 300mm thick stone masonry wall | D8: m3 | E8: 8 | G8: =E8*F8 -> 0
B9: B | C9: 400 mm thick hard core | D9: m2 | E9: 9 | G9: =E9*F9 -> 0
B10: C | C10: 100 mm thick, Plain concrete slab grade 15 | D10: m2 | E10: 9 | G10: =E10*F10 -> 0
C12: TOTAL FOUNDATION AND WALLING | G12: =SUM(G8:G11) -> 0
B14: 4 | C14: DOORS | F14: 0 | G14: =F14*E14 -> 0
C15: Doors Shutter Prime quality hardwood paneled doors mninga or other equal and approved hardwood 45mm Thick panelled single door Mahogany timber finish, comprising of 45 x 150mm top and middle rails, 45 x 150mm stiles and 45 x 200 bottom rail, panels filled in with and including 35mm thick moulded boarding tongued and grooved all round rails. fix using heavy duty three hinges of 4" per door Including Supply and fix the following "UNION" make or other equal and approved iron-mongery To softwood, hardwood or the like; fixing with screws ;- 3-Lever Mortise lock with furniture, Toiles and Bathroom lock with indicating bolt, 100mm Brass butt hinges | G15: =F15*E15 -> 0
B16: A | C16: Ditto 800 x 2000mm high. ( toilets and changing room) | D16: No | E16: 11 | G16: =F16*E16 -> 0
B17: B | C17: Supply and install a 1050 mm × 2000 mm high door for the Persons with Disabilities (PWD) toilet, complete with frame, ironmongery, and all necessary fixing accessories. The door shall be of solid construction, without ventilation openings, glazing, or burglar bars. The door leaf shall be hung on 100mm long three heavy-duty double-swing hinges, fixed at three equally spaced points to the frame, allowing the door to swing in both directions. The double-swing arrangement shall enable wheelchair users to open the door by pushing from either side, facilitating ease of access and compliance with accessibility requirements. Installation shall include all locks, handles, door stops, and fittings required for a complete and functional door assembly, in accordance with the approved drawings, specifications, and the Engineer's instructions. | D17: No | E17: 1 | G17: =F17*E17 -> 0
B18: C | C18: Metal door 1500x2000mm high ( at main entrance). Frame should be fixed to walls by using 8mm diameter fisher bolts of 150mm long fix at four points for each door frame jambs.- as per consultant aproval | D18: No | E18: 1 | G18: =F18*E18 -> 0
B19: D | C19: Metal door 900x2000mm high ( at incinerator area ). Frame should be fixed to walls by using 8mm diameter fisher bolts of 150mm long fix at four points for each door frame jambs.- as per consultant aproval | D19: No | E19: 1 | G19: =F19*E19 -> 0
G21: =F21*E21 -> 0
C22: Supply and fix Door frames: Hardwood mininga or other equal and approved hardwood. Door frame Fixing: must use 4 pcs 8 mm diameter, 6” long fisher bolts per frame (fixed at jambs). | G22: =F22*E22 -> 0
B23: E | C23: Ditto 850x2800mm high (Changing room and incinerator) | D23: No | E23: 1 | G23: =F23*E23 -> 0
B24: F | C24: 850x2000mm , high no vents, no glass, no buglar bars ( for Toilets) | D24: No | E24: 10 | G24: =F24*E24 -> 0
B25: G | C25: 1050x2000mm high no vents, no glass, no buglar bars ( for Toilets-PWD) | D25: No | E25: 1 | G25: =F25*E25 -> 0
C27: (T&L) TOTAL DOORS | G27: =SUM(G15:G26) -> 0
C29: WINDOWS | G29: =F29*E29 -> 0
B30: A | C30: Supply and fix painted metal windows of 1 inch pipe sized for 1000x600 High ( Toilet) complete with galvanized wire mesh, including all necessary frames, fixings, painting/coating, and installation as specified | D30: No | E30: 12 | G30: =F30*E30 -> 0
C32: (T&L) TOTAL WINDOW | G32: =SUM(G29:G30) -> 0
G33: =F33*E33 -> 0
C34: FINISHING WORKS & DECORATION | G34: =F34*E34 -> 0
B35: 6 | C35: Finishing | G35: =F35*E35 -> 0
B36: A | C36: Plastering 25mm thick 1:3 cement sand to foundation wall and to internal walls | D36: m2 | E36: 30 | G36: =F36*E36 -> 0
B37: B | C37: water proof plaster in inernal toilet walls and terrazzo to laundry and Around dhobi sinks | D37: m2 | E37: 69.16 | F37: N/A
C38: Skim ineranl walls with water proof cement slurry mixed with cream color pigments to toilet rooms 1.5m high up to window level | D38: m2 | E38: 100 | G38: =F38*E38 -> 0
B39: C | C39: Carefully finish the terrazzo works by scrubing and polishing Terrazzo floor incl 150mm high skirtings to an acceptable work and client's satisfaction. ( Terrazzo is existing it only needs to be well scrubbed and polished) | D39: m2 | E39: 91 | G39: =F39*E39 -> 0
B40: D | C40: 50mm thick Terrazzo finishing to Dgobhi sinks | D40: m2 | E40: 35 | G40: =F40*E40 -> 0
B41: D | C41: Vanish exernal ISSB wall | D41: m2 | E41: 80.29 | G41: =F41*E41 -> 0
B42: E | C42: Repeat Painting one coats of bituminous paint to foundation walls, internal walls and to beams. | D42: m2 | E42: 31.08 | G42: =F42*E42 -> 0
B43: F | C43: Painting three coats of brown bituminous paint to trusses and white color to fascia board | D43: Item | E43: 1 | G43: =F43*E43 -> 0
B44: G | C44: Supply and fix 150 mm thick concrete coping (RC grade 20 including formwork use 4Y12 and Y8-200c/c), weathered and throated, with bevelled fair-faced exposed surfaces, hoisted into position and bedded and pointed in 1:3 cement:sand mortar. The coping shall incorporate a 75 mm overhang on both sides of the wall and a 10 mm deep continuous drip groove beneath each overhang to prevent water from tracking onto the wall faces. The top surface shall be smooth and weathered with a minimum 0.5% cross fall to shed water away from the wall. All exposed surfaces shall be true, level, and free from defects, complete in accordance with the drawings and the Engineer's instructions. | D44: m | E44: 6 | G44: =F44*E44 -> 0
C46: (T&L) TOTAL FINISHING | G46: =SUM(G36:G45) -> 0
C48: PLUMBING AND SANITARY INSTALLATION
C49: Supply and install and test ; Plumbing | G49: =F49*E49 -> 0
B50: A | C50: Wall-Hung Wash Hand Basin Supply and install a 420 × 510 mm white vitreous china wall-hung wash hand basin, complete with 12 mm pillar taps, 32 mm chromium-plated chain waste, 32 mm plastic bottle trap, concealed brackets, fixing clamps, and all necessary accessories. Install in the changing/women's room and disabled toilet room as shown on the drawings. The basin shall be securely fixed to the wall using approved brass screws and concealed supports, with no floor support. All plumbing pipework and fittings shall be enclosed within a neat casing to conceal them from view. The installation shall include all plumbing connections, sealing, testing, and commissioning, complete in accordance with the drawings and the Engineer's instructions. | D50: No | E50: 2 | G50: =F50*E50 -> 0
...

Sheet KIGODYA
B2: Bill of Quantities For the Completion of remaining works for a WASH facility at Kigodya Secondary School Note: Pre executed quantities will not be paid.
C3: KIGODYA WASH
B4: S/No | C4: Item | D4: Unit | E4: Qty | F4: Rate (EURO) | G4: Total (EURO)
C5: This Wash facility is at the finishing level with few works to be completed. The contractor is required to fill relevant market prices for works completion. | F5: 0 | G5: =F5*E5 -> 0
C7: RAMPS (total of 2 ramps)
B8: A | C8: Foundation: Construct a 300mm thick stone masonry wall | D8: m3 | E8: 8 | G8: =E8*F8 -> 0
B9: B | C9: 400 mm thick hard core | D9: m2 | E9: 9 | G9: =E9*F9 -> 0
B10: C | C10: 100 mm thick, Plain concrete slab grade 15 | D10: m2 | E10: 9 | G10: =E10*F10 -> 0
C12: SUBSTRUCTURE | G12: =SUM(G8:G11) -> 0
B15: 4 | C15: DOORS | F15: 0 | G15: =F15*E15 -> 0
C16: Doors Shutter Prime quality hardwood paneled doors mninga or other equal and approved hardwood 45mm Thick panelled single door Mahogany timber finish, comprising of 45 x 150mm top and middle rails, 45 x 150mm stiles and 45 x 200 bottom rail, panels filled in with and including 35mm thick moulded boarding tongued and grooved all round rails. fix using heavy duty three hinges of 4" per door Including Supply and fix the following "UNION" make or other equal and approved iron-mongery To softwood, hardwood or the like; fixing with screws ;- 3-Lever Mortise lock with furniture, Toiles and Bathroom lock with indicating bolt, 100mm Brass butt hinges | G16: =F16*E16 -> 0
B17: A | C17: Ditto 800 x 2000mm high. ( toilets and changing room) | D17: No | E17: 11 | G17: =F17*E17 -> 0
B18: B | C18: Supply and install a 1050 mm × 2000 mm high door for the Persons with Disabilities (PWD) toilet, complete with frame, ironmongery, and all necessary fixing accessories. The door shall be of solid construction, without ventilation openings, glazing, or burglar bars. The door leaf shall be hung on 100mm long three heavy-duty double-swing hinges, fixed at three equally spaced points to the frame, allowing the door to swing in both directions. The double-swing arrangement shall enable wheelchair users to open the door by pushing from either side, facilitating ease of access and compliance with accessibility requirements. Installation shall include all locks, handles, door stops, and fittings required for a complete and functional door assembly, in accordance with the approved drawings, specifications, and the Engineer's instructions. | D18: No | E18: 1 | G18: =F18*E18 -> 0
B19: C | C19: Metal door 1500x2000mm high ( at main entrance). Frame should be fixed to walls by using 8mm diameter fisher bolts of 150mm long fix at four points for each door frame jambs.- as per consultant aproval | D19: No | E19: 1 | G19: =F19*E19 -> 0
B20: D | C20: Metal door 900x2000mm high ( at incinerator area ). Frame should be fixed to walls by using 8mm diameter fisher bolts of 150mm long fix at four points for each door frame jambs.- as per consultant aproval | D20: No | E20: 1 | G20: =F20*E20 -> 0
C22: Supply and fix Door frames: Hardwood mininga or other equal and approved hardwood. Door frame Fixing: must use 4 pcs 8 mm diameter, 6” long fisher bolts per frame (fixed at jambs). | G22: =F22*E22 -> 0
B23: E | C23: Ditto 850x2800mm high (Changing room and incinerator) | D23: No | E23: 1 | G23: =F23*E23 -> 0
B24: F | C24: 850x2000mm , high no vents, no glass, no buglar bars ( for Toilets) | D24: No | E24: 10 | G24: =F24*E24 -> 0
B25: G | C25: 1050x2000mm high no vents, no glass, no buglar bars ( for Toilets-PWD) | D25: No | E25: 1 | G25: =F25*E25 -> 0
G26: =F26*E26 -> 0
C27: (T&L) TOTAL DOORS | G27: =SUM(G16:G26) -> 0
C29: WINDOWS | G29: =F29*E29 -> 0
B30: A | C30: Supply and fix painted metal windows of 1 inch pipe sized for 1000x600 High ( Toilet) complete with galvanized wire mesh, including all necessary frames, fixings, painting/coating, and installation as specified | D30: No | E30: 12 | G30: =F30*E30 -> 0
C32: (T&L) TOTAL WINDOW | G32: =SUM(G29:G30) -> 0
G33: =F33*E33 -> 0
C34: FINISHING WORKS & DECORATION | G34: =F34*E34 -> 0
B35: 6 | C35: Finishing | G35: =F35*E35 -> 0
B36: A | C36: Plastering 25mm thick 1:3 cement sand to foundation wall and to internal walls | D36: m2 | E36: 30 | G36: =F36*E36 -> 0
B37: B | C37: water proof plaster in inernal toilet walls and terrazzo to laundry and Around dhobi sinks | D37: m2 | E37: 69.16 | F37: N/A
C38: Skim ineranl walls with water proof cement slurry mixed with cream color pigments to toilet rooms 1.5m high up to window level | D38: m2 | E38: 100 | G38: =F38*E38 -> 0
B39: C | C39: Carefully finish the terrazzo works by scrubing and polishing Terrazzo floor incl 150mm high skirtings to an acceptable work and client's satisfaction. ( Terrazzo is existing it only needs to be well scrubbed and polished) | D39: m2 | E39: 91 | G39: =F39*E39 -> 0
B40: D | C40: Vanish exernal ISSB wall | D40: m2 | E40: 80.29 | G40: =F40*E40 -> 0
B41: E | C41: Repeat Painting one coats of bituminous paint to foundation walls, internal walls and to beams. | D41: m2 | E41: 31.08 | G41: =F41*E41 -> 0
B42: F | C42: Painting three coats of brown bituminous paint to trusses and white color to fascia board | D42: Item | E42: 1 | G42: =F42*E42 -> 0
B43: G | C43: Supply and fix 150 mm thick concrete coping (RC grade 20 including formwork use 4Y12 and Y8-200c/c), weathered and throated, with bevelled fair-faced exposed surfaces, hoisted into position and bedded and pointed in 1:3 cement:sand mortar. The coping shall incorporate a 75 mm overhang on both sides of the wall and a 10 mm deep continuous drip groove beneath each overhang to prevent water from tracking onto the wall faces. The top surface shall be smooth and weathered with a minimum 0.5% cross fall to shed water away from the wall. All exposed surfaces shall be true, level, and free from defects, complete in accordance with the drawings and the Engineer's instructions. | D43: m | E43: 6 | G43: =F43*E43 -> 0
C45: (T&L) TOTAL FINISHING | G45: =SUM(G36:G44) -> 0
C47: PLUMBING AND SANITARY INSTALLATION
C48: Supply and install and test ; Plumbing | G48: =F48*E48 -> 0
B49: A | C49: Wall-Hung Wash Hand Basin Supply and install a 420 × 510 mm white vitreous china wall-hung wash hand basin, complete with 12 mm pillar taps, 32 mm chromium-plated chain waste, 32 mm plastic bottle trap, concealed brackets, fixing clamps, and all necessary accessories. Install in the changing/women's room and disabled toilet room as shown on the drawings. The basin shall be securely fixed to the wall using approved brass screws and concealed supports, with no floor support. All plumbing pipework and fittings shall be enclosed within a neat casing to conceal them from view. The installation shall include all plumbing connections, sealing, testing, and commissioning, complete in accordance with the drawings and the Engineer's instructions. | D49: No | E49: 2 | G49: =F49*E49 -> 0
B50: B | C50: Supply and install a complete disabled toilet suite, comprising an accessible floor-mounted vitreous china washdown WC pan with matching close-coupled or low-level cistern, a wash hand basin, 4 No. stainless steel grab rails, and 1 No. adjustable folding support rail, complete with all brackets, fixings, pipework connections, and accessories required for a complete installation. The WC pan shall be specifically designed for disabled access applications, with a seat height of approximately 450-480 mm above finished floor level, complete with heavy-duty toilet seat and cover. All grab rails and the folding support rail shall be manufactured from Grade SS304 stainless steel. The folding support rail shall extend at least 100 mm beyond the front edge of the WC pan to provide adequate support during transfer and use. The suite shall be of RAK Ceramics manufacture or approved equivalent and shall include all necessary fittings, fixing accessories, testing, and commissioning. Installation shall comply with the approved drawings, accessibility requirements, manufacturer's recommendations, and the Engineer's instructions. | D50: No | E50: 1 | G50: =F50*E50 -> 0
...

Sheet MWANGA
A2: Bill of Quantities For the Construction of water tank raiser, incinerator renovation, and renovation of hand wash sinks at Mwanga Secondary School - Kasulu TC
A3: RENOVATION OF TOILET - MWANGA
A5: S/No | B5: Item | C5: Unit | D5: Qty | E5: Rate (EURO) | F5: Total (EURO)
A7: 1 | B7: Foundation and walling
B8: RAMPS (total of 2 ramps)
A9: A | B9: Foundation: Construct a 300mm thick stone masonry wall | C9: m3 | D9: 8 | F9: =D9*E9 -> 0
A10: B | B10: 400 mm thick hard core | C10: m2 | D10: 9 | F10: =D10*E10 -> 0
A11: C | B11: 100 mm thick, Plain concrete slab grade 15 | C11: m2 | D11: 9 | F11: =D11*E11 -> 0
B13: SUBSTRUCTURE | F13: =SUM(F9:F12) -> 0
B15: ROOFING
A17: A | B17: Truss Fabrication, Installation and fixing purlins spaced 0.9m c/c along rafter of every truss. fix purlins with 5"nails then tie with core wire securing to rafer. • Materials: Supply well-seasoned and treated timber. Timber sections to be used:  Rafters: 50x150 mm. - eucaliptus  Tie beams: 50x150 mm. eucaliptus  Wall plates and struts: 50x100 mm. eucaliptus  Purlins: 50x70 mm. - Pine soft wood timber • Fabrication: Fabricate the trusses as per the provided drawings. Ensure the trusses are fabricated with a rafter slope of 8 degrees. • Installation: Install the fabricated trusses on the ring beam with a spacing of 1.4 meters center-to-center (c/c). Anchor the trusses to the ring beam using core M6 steel bars casted in the ring beam. Use two bolts (12mm diameter) with nuts and 2inches diameter washers to secure the joints of rafters and tie beams. • Overhangs: o The external overhang is to be 1.5 meters long. o The internal overhang at the hallway is to be 0.8 meters long. • Additional Provisions: o All tools, nails, and materials necessary for the truss fabrication and installation are to be included | C17: No | D17: 7 | F17: =E17*D17 -> 0
A18: B | B18: Supply and fix 28-gauge IT5 roofing sheets with resin-coated finish having high solar reflectivity and low heat absorption properties, fixed onto treated pine timber purlins using 3.5-inch rubber-washer roofing nails, complete to approved specifications. | C18: m2 | D18: 137 | F18: =E18*D18 -> 0
A19: C | B19: Fascia board: treated pine timber - 25x200mm. Weld brackets at 600mm c/c | C19: m2 | D19: 30.1 | F19: =E19*D19 -> 0
F20: =E20*D20 -> 0
A21: D | B21: Construct a (1:2:4) 6mm BRC reinforced concrete wash basin with a 600mm x 400mm width by 350mm depth internal dimension, and provide a 50mm diameter water outlet hole provided with trap and screener, 100mm concrete partition wall between one wash basin to another same for slab. Top-level of wash basin from floor is 750mm, it will be casted on top of brick wall, includes formworks, bottle trap, drainers and necessary accessories; ( it will be used as hand wash basin as well) | C21: m3 | D21: 1.7 | F21: =E21*D21 -> 0
B23: (T&L) TOTAL ROOFING | F23: =SUM(F16:F22) -> 0
F24: =E24*D24 -> 0
B25: DOORS | F25: =E25*D25 -> 0
B26: Supply and fix Door frames: Hardwood mininga or other equal and approved hardwood. Door frame Fixing: must use 4 pcs 8 mm diameter, 6” long fisher bolts per frame (fixed at jambs). | F26: =E26*D26 -> 0
A27: E | B27: Ditto 850x2800mm high | C27: No. | D27: 4 | F27: =E27*D27 -> 0
B29: Doors Shutter Prime quality hardwood paneled doors mninga or other equal and approved hardwood 45mm Thick panelled single door Mahogany timber finish, comprising of 45 x 150mm top and middle rails, 45 x 150mm stiles and 45 x 200 bottom rail, panels filled in with and including 35mm thick moulded boarding tongued and grooved all round rails Including Supply and fix the following "UNION" make or other equal and approved iron-mongery To softwood, hardwood or the like; fixing with screws ;- 3-Lever Mortise lock with furniture, Toiles and Bathroom lock with indicating bolt, 100mm Brass butt hinges
A31: F | B31: Ditto 800 x 2000mm high. ( toilets and changing room) | C31: No | D31: 4 | F31: =E31*D31 -> 0
B33: (T&L) TOTAL DOORS | F33: =SUM(F26:F32) -> 0
F34: =E34*D34 -> 0
B35: WINDOWS | F35: =E35*D35 -> 0
A36: G | B36: Supply and fix painted metal windows of 1 inch pipe sized for 1000x600 High ( Toilet) complete with galvanized wire mesh, including all necessary frames, fixings, painting/coating, and installation as specified | C36: No. | D36: 4 | F36: =E36*D36 -> 0
B38: (T&L) TOTAL WINDOW | F38: =SUM(F35:F36) -> 0
F39: =E39*D39 -> 0
A40: 6 | B40: FINISHING WORKS | F40: =E40*D40 -> 0
A41: A | B41: Plastering 25mm thick 1:3 cement sand to foundation wall and to internal walls | C41: m2 | D41: 85.2 | F41: =E41*D41 -> 0
A42: B | B42: waterproof plastering 1:4 in toilets plus skimmed gley cement pigment. Ditto for wall above wash basin. | C42: m2 | D42: 42.4 | F42: =E42*D42 -> 0
A43: C | B43: Terrazo floor finishing | C43: m2 | D43: 63.5 | F43: =E43*D43 -> 0
A44: D | B44: Plastering 25mm thick 1:3 cement sand to external walls | C44: m2 | D44: 65 | F44: =E44*D44 -> 0
A45: E | B45: Painting three coats of bituminous paint to the foundation walls, silk Paint to internal walls , weather guard paint to external walls, and painting to fascia board | C45: m2 | D45: 150 | F45: =E45*D45 -> 0
B47: (T&L) TOTAL FINISHING | F47: =SUM(F41:F46) -> 0
F48: =E48*D48 -> 0
B49: Supply and fix ; | F49: =E49*D49 -> 0
A50: A | B50: Wash hand basins; white vitreous China; 32mm chromium plated chain waste 32mm plastic bottle trap concealed bracket with fixing clamps pair 12mm pillar taps 420 x 510mm; requiring plugging. fixing with brass screws to backgrounds ( install at changing/women's room0 | C50: No | D50: 1 | F50: =E50*D50 -> 0
A51: A | B51: Construct 6mm BRC reinforced concrete grade 20 hand wash basin with a 600mm x 400mm width by 350mm depth internal dimension, and provide a 50mm diameter water outlet hole provided with trap and screener, 100mm concrete partition wall between one wash basin to another same for slab. Top-level of wash basin from floor is 750mm, it will be casted on top of brick wall, includes formworks, bottle trap, drainers and necessary accessories; ( it will be used as hand wash basin as well) . Apply 50mm thick Terrazzo finishing to all dhobi sinks. number of hand wash sink to be casted are 4 | C51: m3 | D51: 5 | F51: =E51*D51 -> 0
A52: B | B52: Squatting -White vitreous asian type W.C suite comprising 9 litres capacity cistern with cover, 12mm BSS high pressure ball valve, plastic syphon fitting, side supply and overflow set. Castleware/ Arrow brand or equivalent approved. | C52: No | D52: 4 | F52: =E52*D52 -> 0
...
