Workbook
Name CG: [1]Budget!$I$71
Name CO: [1]Budget!$I$7
Name CS: [1]Budget!$I$90
Name CT: [1]Budget!$I$93
Name CT_Q1: [1]Budget!$K$93
Name CT_Q2: [1]Budget!$L$93
Name CT_Q3: [1]Budget!$M$93
Name CT_Q4: [1]Budget!$N$93
Name CT_Y2: [1]Budget!$O$93
Name CT_Y3: [1]Budget!$P$93
Name CT_Y4: [1]Budget!$Q$93
Name Grant_Ref: 'Informations générales'!$C$5
Name Grantee_Name: 'Informations générales'!$C$17
Name total_cost: '[2]Worksheet 1 Project budget'!$E$56
Name total_cost_y1: '[2]Worksheet 1 Project budget'!$I$56

Sheet Informations générales
B2: #VALUE! | E2: Logo du partenaire
H3: remplissez les cellules jaunes
H4: sélectionnez dans le menu déroulant
B5: Réf. externe code subside
B6: Processus
B7: Version
B8: Date
B11: Date de début prévue
B12: Date de fin prévue
B13: Durée du projet (en mois) | C13: =DATEDIF(C11,C12,"m")+1 -> 1
B16: Informations sur le bénéficiaire
B17: Nom de l’organisation
B18: Titre de l’action
B19: Type d’organisation | D19: =IFERROR(_xlfn.XLOOKUP(C19,Parameters!B29:B36,Parameters!A29:A36),"")
B20: Statut juridique
B21: Type de bureau

Sheet BUDGET
C1: DÉTAILS DU BUDGET | K1: Version | L1: ="V. "&TEXT('Informations générales'!C7,"00") -> V. 00
K2: Devise | L2: EUR
C3: Annexe 1B | K3: Durée du subside | L3: =TEXT('Informations générales'!C11,"jj/mm/aaaa")&" - "&TEXT('Informations générales'!C12,"jj/mm/aaaa") -> 00/01/1900 - 00/01/1900
F5: Catégorie de coûts | G5: Unité budgétaire | H5: Qté | I5: Coût unitaire | J5: Taux d’affectation | K5: TotalEnabelEUR | L5: Clarification demandeur | N5: Q1 | O5: Q2 | P5: Q3 | Q5: Q4 | R5: FY1 | S5: FY2 | T5: FY3 | U5: FY4 | X5: Control forecast
C6: A. Frais de fonctionnement | K6: =+SUBTOTAL(9,K7:K62) -> 0 | N6: =+SUBTOTAL(9,N7:N62) -> 0 | O6: =+SUBTOTAL(9,O7:O62) -> 0 | P6: =+SUBTOTAL(9,P7:P62) -> 0 | Q6: =+SUBTOTAL(9,Q7:Q62) -> 0 | R6: =+SUBTOTAL(9,R7:R62) -> 0 | S6: =+SUBTOTAL(9,S7:S62) -> 0 | T6: =+SUBTOTAL(9,T7:T62) -> 0 | U6: =+SUBTOTAL(9,U7:U62) -> 0
A7: =+C7&D7 -> AO1 | C7: A | D7: O1 | E7: Output 1 : | K7: =+SUBTOTAL(9,K8:K28) -> 0 | N7: =+SUBTOTAL(9,N8:N28) -> 0 | O7: =+SUBTOTAL(9,O8:O28) -> 0 | P7: =+SUBTOTAL(9,P8:P28) -> 0 | Q7: =+SUBTOTAL(9,Q8:Q28) -> 0 | R7: =+SUBTOTAL(9,R8:R28) -> 0 | S7: =+SUBTOTAL(9,S8:S28) -> 0 | T7: =+SUBTOTAL(9,T8:T28) -> 0 | U7: =+SUBTOTAL(9,U8:U28) -> 0
A8: =+C8&D8 -> A1.1 | C8: A | D8: 1.1 | E8: Activité 1 | K8: =+SUBTOTAL(9,K9:K14) -> 0 | N8: =+SUBTOTAL(9,N9:N14) -> 0 | O8: =+SUBTOTAL(9,O9:O14) -> 0 | P8: =+SUBTOTAL(9,P9:P14) -> 0 | Q8: =+SUBTOTAL(9,Q9:Q14) -> 0 | R8: =+SUBTOTAL(9,R9:R14) -> 0 | S8: =+SUBTOTAL(9,S9:S14) -> 0 | T8: =+SUBTOTAL(9,T9:T14) -> 0 | U8: =+SUBTOTAL(9,U9:U14) -> 0
A9: =+C9&D9 -> A1.1.1 | C9: A | D9: 1.1.1 | K9: =+H9*I9*J9 -> 0 | R9: =SUM(N9:Q9) -> 0
A10: =+C10&D10 -> A1.1.2 | C10: A | D10: 1.1.2 | K10: =+H10*I10*J10 -> 0 | R10: =SUM(N10:Q10) -> 0
A11: =+C11&D11 -> A1.1.3 | C11: A | D11: 1.1.3 | K11: =+H11*I11*J11 -> 0 | R11: =SUM(N11:Q11) -> 0
A12: =+C12&D12 -> A1.1.4 | C12: A | D12: 1.1.4 | K12: =+H12*I12*J12 -> 0 | R12: =SUM(N12:Q12) -> 0
A13: =+C13&D13 -> A1.1.5 | C13: A | D13: 1.1.5 | K13: =+H13*I13*J13 -> 0 | R13: =SUM(N13:Q13) -> 0
A14: =+C14&D14 -> A1.1.6 | C14: A | D14: 1.1.6 | K14: =+H14*I14*J14 -> 0 | R14: =SUM(N14:Q14) -> 0
A15: =+C15&D15 -> A1.2 | C15: A | D15: 1.2 | E15: Activité 2 | K15: =+SUBTOTAL(9,K16:K21) -> 0 | N15: =+SUBTOTAL(9,N16:N21) -> 0 | O15: =+SUBTOTAL(9,O16:O21) -> 0 | P15: =+SUBTOTAL(9,P16:P21) -> 0 | Q15: =+SUBTOTAL(9,Q16:Q21) -> 0 | R15: =+SUBTOTAL(9,R16:R21) -> 0 | S15: =+SUBTOTAL(9,S16:S21) -> 0 | T15: =+SUBTOTAL(9,T16:T21) -> 0 | U15: =+SUBTOTAL(9,U16:U21) -> 0
A16: =+C16&D16 -> A1.2.1 | C16: A | D16: 1.2.1 | K16: =+H16*I16*J16 -> 0 | R16: =SUM(N16:Q16) -> 0 | X16: =+#REF!-R16-S16-T16-U16 -> #REF!
A17: =+C17&D17 -> A1.2.2 | C17: A | D17: 1.2.2 | K17: =+H17*I17*J17 -> 0 | R17: =SUM(N17:Q17) -> 0 | X17: =+#REF!-R17-S17-T17-U17 -> #REF!
A18: =+C18&D18 -> A1.2.3 | C18: A | D18: 1.2.3 | K18: =+H18*I18*J18 -> 0 | R18: =SUM(N18:Q18) -> 0 | X18: =+#REF!-R18-S18-T18-U18 -> #REF!
A19: =+C19&D19 -> A1.2.4 | C19: A | D19: 1.2.4 | K19: =+H19*I19*J19 -> 0 | R19: =SUM(N19:Q19) -> 0
A20: =+C20&D20 -> A1.2.5 | C20: A | D20: 1.2.5 | K20: =+H20*I20*J20 -> 0 | R20: =SUM(N20:Q20) -> 0
A21: =+C21&D21 -> A1.2.6 | C21: A | D21: 1.2.6 | K21: =+H21*I21*J21 -> 0 | R21: =SUM(N21:Q21) -> 0
A22: =+C22&D22 -> A1.3 | C22: A | D22: 1.3 | E22: Activité 3 | K22: =+SUBTOTAL(9,K23:K28) -> 0 | N22: =+SUBTOTAL(9,N23:N28) -> 0 | O22: =+SUBTOTAL(9,O23:O28) -> 0 | P22: =+SUBTOTAL(9,P23:P28) -> 0 | Q22: =+SUBTOTAL(9,Q23:Q28) -> 0 | R22: =+SUBTOTAL(9,R23:R28) -> 0 | S22: =+SUBTOTAL(9,S23:S28) -> 0 | T22: =+SUBTOTAL(9,T23:T28) -> 0 | U22: =+SUBTOTAL(9,U23:U28) -> 0
A23: =+C23&D23 -> A1.3.1 | C23: A | D23: 1.3.1 | K23: =+H23*I23*J23 -> 0 | R23: =SUM(N23:Q23) -> 0 | X23: =+#REF!-R23-S23-T23-U23 -> #REF!
A24: =+C24&D24 -> A1.3.2 | C24: A | D24: 1.3.2 | K24: =+H24*I24*J24 -> 0 | R24: =SUM(N24:Q24) -> 0 | X24: =+#REF!-R24-S24-T24-U24 -> #REF!
A25: =+C25&D25 -> A1.3.3 | C25: A | D25: 1.3.3 | K25: =+H25*I25*J25 -> 0 | R25: =SUM(N25:Q25) -> 0 | X25: =+#REF!-R25-S25-T25-U25 -> #REF!
A26: =+C26&D26 -> A1.3.4 | C26: A | D26: 1.3.4 | K26: =+H26*I26*J26 -> 0 | R26: =SUM(N26:Q26) -> 0
A27: =+C27&D27 -> A1.3.5 | C27: A | D27: 1.3.5 | K27: =+H27*I27*J27 -> 0 | R27: =SUM(N27:Q27) -> 0
A28: =+C28&D28 -> A1.3.6 | C28: A | D28: 1.3.6 | K28: =+H28*I28*J28 -> 0 | R28: =SUM(N28:Q28) -> 0
A29: =+C29&D29 -> AO2 | C29: A | D29: O2 | E29: Output 2 : | K29: =+SUBTOTAL(9,K30:K50) -> 0 | N29: =+SUBTOTAL(9,N30:N50) -> 0 | O29: =+SUBTOTAL(9,O30:O50) -> 0 | P29: =+SUBTOTAL(9,P30:P50) -> 0 | Q29: =+SUBTOTAL(9,Q30:Q50) -> 0 | R29: =+SUBTOTAL(9,R30:R50) -> 0 | S29: =+SUBTOTAL(9,S30:S50) -> 0 | T29: =+SUBTOTAL(9,T30:T50) -> 0 | U29: =+SUBTOTAL(9,U30:U50) -> 0
A30: =+C30&D30 -> A2.1 | C30: A | D30: 2.1 | E30: Activité 1 | K30: =+SUBTOTAL(9,K31:K36) -> 0 | N30: =+SUBTOTAL(9,N31:N36) -> 0 | O30: =+SUBTOTAL(9,O31:O36) -> 0 | P30: =+SUBTOTAL(9,P31:P36) -> 0 | Q30: =+SUBTOTAL(9,Q31:Q36) -> 0 | R30: =+SUBTOTAL(9,R31:R36) -> 0 | S30: =+SUBTOTAL(9,S31:S36) -> 0 | T30: =+SUBTOTAL(9,T31:T36) -> 0 | U30: =+SUBTOTAL(9,U31:U36) -> 0
A31: =+C31&D31 -> A2.1.1 | C31: A | D31: 2.1.1 | K31: =+H31*I31*J31 -> 0 | R31: =SUM(N31:Q31) -> 0
A32: =+C32&D32 -> A2.1.2 | C32: A | D32: 2.1.2 | K32: =+H32*I32*J32 -> 0 | R32: =SUM(N32:Q32) -> 0
A33: =+C33&D33 -> A2.1.3 | C33: A | D33: 2.1.3 | K33: =+H33*I33*J33 -> 0 | R33: =SUM(N33:Q33) -> 0
A34: =+C34&D34 -> A2.1.4 | C34: A | D34: 2.1.4 | K34: =+H34*I34*J34 -> 0 | R34: =SUM(N34:Q34) -> 0
A35: =+C35&D35 -> A2.1.5 | C35: A | D35: 2.1.5 | K35: =+H35*I35*J35 -> 0 | R35: =SUM(N35:Q35) -> 0
A36: =+C36&D36 -> A2.1.6 | C36: A | D36: 2.1.6 | K36: =+H36*I36*J36 -> 0 | R36: =SUM(N36:Q36) -> 0
A37: =+C37&D37 -> A2.2 | C37: A | D37: 2.2 | E37: Activité 2 | K37: =+SUBTOTAL(9,K38:K43) -> 0 | N37: =+SUBTOTAL(9,N38:N43) -> 0 | O37: =+SUBTOTAL(9,O38:O43) -> 0 | P37: =+SUBTOTAL(9,P38:P43) -> 0 | Q37: =+SUBTOTAL(9,Q38:Q43) -> 0 | R37: =+SUBTOTAL(9,R38:R43) -> 0 | S37: =+SUBTOTAL(9,S38:S43) -> 0 | T37: =+SUBTOTAL(9,T38:T43) -> 0 | U37: =+SUBTOTAL(9,U38:U43) -> 0
A38: =+C38&D38 -> A2.2.1 | C38: A | D38: 2.2.1 | K38: =+H38*I38*J38 -> 0 | R38: =SUM(N38:Q38) -> 0 | X38: =+#REF!-R38-S38-T38-U38 -> #REF!
A39: =+C39&D39 -> A2.2.2 | C39: A | D39: 2.2.2 | K39: =+H39*I39*J39 -> 0 | R39: =SUM(N39:Q39) -> 0 | X39: =+#REF!-R39-S39-T39-U39 -> #REF!
A40: =+C40&D40 -> A2.2.3 | C40: A | D40: 2.2.3 | K40: =+H40*I40*J40 -> 0 | R40: =SUM(N40:Q40) -> 0 | X40: =+#REF!-R40-S40-T40-U40 -> #REF!
A41: =+C41&D41 -> A2.2.4 | C41: A | D41: 2.2.4 | K41: =+H41*I41*J41 -> 0 | R41: =SUM(N41:Q41) -> 0
...

Sheet BUDGET_SUM
N2: Version | O2: ="V. "&TEXT('Informations générales'!C7,"00") -> V. 00
B3: RÉSUMÉ BUDGET | N3: Devise | O3: EUR
B4: Aperçu financier | N4: Durée du subside | O4: =TEXT('Informations générales'!C11,"jj/mm/aaaa")&" - "&TEXT('Informations générales'!C12,"jj/mm/aaaa") -> 00/01/1900 - 00/01/1900
B6: Budget total de l’action
B7: =+BUDGET!K85 -> 0
B9: Cadre logique de l’intervention | J9: Totaux (EUR)
B11: Logique d’intervention | D11: Total Enabel EUR | F11: % | J11: TotalAction | K11: =SUM(K14:K16) -> 0 | L11: =SUM(L14:L16) -> #DIV/0!
B14: Total | D14: =SUM(D15:D21) -> 0 | F14: =+D14/D14 -> #DIV/0! | J14: Coûts opérationnels | K14: =+BUDGET!K6 -> 0 | L14: =+K14/$B$7 -> #DIV/0!
B15: Output 1 | C15: {=UPPER(LEFT(B15) & INDEX(_xlfn.TEXTSPLIT(B15, " "), COLUMNS(_xlfn.TEXTSPLIT(B15, " "))))} -> O1 | D15: =SUMIF(BUDGET!D:D, C15, BUDGET!K:K) -> 0 | F15: =+D15/$D$14 -> #DIV/0! | J15: Coûts de gestion | K15: =+BUDGET!K66 -> 0 | L15: =+K15/$B$7 -> #DIV/0!
B16: Output 2 | C16: {=UPPER(LEFT(B16) & INDEX(_xlfn.TEXTSPLIT(B16, " "), COLUMNS(_xlfn.TEXTSPLIT(B16, " "))))} -> O2 | D16: =SUMIF(BUDGET!D:D, C16, BUDGET!K:K) -> 0 | F16: =+D16/$D$14 -> #DIV/0! | J16: Coûts de structure | K16: =+BUDGET!K81 -> 0 | L16: =+K16/$B$7 -> #DIV/0!
B17: Output 3 | C17: {=UPPER(LEFT(B17) & INDEX(_xlfn.TEXTSPLIT(B17, " "), COLUMNS(_xlfn.TEXTSPLIT(B17, " "))))} -> O3 | D17: =SUMIF(BUDGET!D:D, C17, BUDGET!K:K) -> 0 | F17: =+D17/$D$14 -> #DIV/0!
B18: Output 4 | C18: {=UPPER(LEFT(B18) & INDEX(_xlfn.TEXTSPLIT(B18, " "), COLUMNS(_xlfn.TEXTSPLIT(B18, " "))))} -> O4 | D18: =SUMIF(BUDGET!D:D, C18, BUDGET!K:K) -> 0 | F18: =+D18/$D$14 -> #DIV/0!
B19: Moyens généraux | C19: MG | D19: =SUMIF(BUDGET!D:D, C19, BUDGET!K:K) -> 0 | F19: =+D19/$D$14 -> #DIV/0!
B20: Frais de gestion | C20: FG | D20: =SUMIF(BUDGET!D:D, C20, BUDGET!K:K) -> 0 | F20: =+D20/$D$14 -> #DIV/0!
B21: Coûts de structure | C21: CS | D21: =SUMIF(BUDGET!D:D, C21, BUDGET!K:K) -> 0 | F21: =+D21/$D$14 -> #DIV/0!
B23: Catégories de coûts | C23: Code | D23: Totaux | F23: % | G23: % | J23: Plan de dépenses
B25: Total | D25: =SUM(D26:D34) -> 0 | G25: =+D25/D25 -> #DIV/0! | J25: Période | K25: Montant du budget | L25: % du budget total | N25: % cumulé du budget total
B26: Ressources humaines | C26: RH | D26: =SUMIF(BUDGET!F:F, C26, BUDGET!K:K) -> 0 | F26: =+D26/$D$25 -> #DIV/0! | G26: =+D26/$D$25 -> #DIV/0! | J26: Q1 | K26: =+BUDGET!N85 -> 0 | L26: =IFERROR(K26/$F$7,"-") -> - | N26: =L26 -> -
B27: Voyage & per diems | C27: VOY | D27: =SUMIF(BUDGET!F:F, C27, BUDGET!K:K) -> 0 | F27: =+D27/$D$25 -> #DIV/0! | G27: =+D27/$D$25 -> #DIV/0! | J27: Q2 | K27: =+BUDGET!O85 -> 0 | L27: =IFERROR(K27/$F$7,"-") -> - | N27: =IFERROR(N26+L27,"-") -> -
B28: Consultances | C28: CON | D28: =SUMIF(BUDGET!F:F, C28, BUDGET!K:K) -> 0 | F28: =+D28/$D$25 -> #DIV/0! | G28: =+D28/$D$25 -> #DIV/0! | J28: Q3 | K28: =+BUDGET!P85 -> 0 | L28: =IFERROR(K28/$F$7,"-") -> - | N28: =IFERROR(N27+L28,"-") -> -
B29: Évènements | C29: EVT | D29: =SUMIF(BUDGET!F:F, C29, BUDGET!K:K) -> 0 | F29: =+D29/$D$25 -> #DIV/0! | G29: =+D29/$D$25 -> #DIV/0! | J29: Q4 | K29: =+BUDGET!Q85 -> 0 | L29: =IFERROR(K29/$F$7,"-") -> - | N29: =IFERROR(N28+L29,"-") -> -
B30: Équipement & matériel | C30: EQP | D30: =SUMIF(BUDGET!F:F, C30, BUDGET!K:K) -> 0 | F30: =+D30/$D$25 -> #DIV/0! | G30: =+D30/$D$25 -> #DIV/0! | J30: Y1 | K30: =SUM(K26:K29) -> 0 | L30: =IFERROR(K30/$F$7,"-") -> - | N30: =+L30 -> -
B31: Sous-subsides | C31: SSB | D31: =SUMIF(BUDGET!F:F, C31, BUDGET!K:K) -> 0 | F31: =+D31/$D$25 -> #DIV/0! | G31: =+D31/$D$25 -> #DIV/0! | J31: Y2 | K31: =+BUDGET!S85 -> 0 | L31: =IFERROR(K31/$F$7,"-") -> - | N31: =IFERROR(N30+L31,"-") -> -
B32: Autres frais | C32: AUT | D32: =SUMIF(BUDGET!F:F, C32, BUDGET!K:K) -> 0 | F32: =+D32/$D$25 -> #DIV/0! | G32: =+D32/$D$25 -> #DIV/0! | J32: Y3 | K32: =+BUDGET!T85 -> 0 | L32: =IFERROR(K32/$F$7,"-") -> - | N32: =IFERROR(N31+L32,"-") -> -
B33: Fonctionnement | C33: FCT | D33: =SUMIF(BUDGET!F:F, C33, BUDGET!K:K) -> 0 | F33: =+D33/$D$25 -> #DIV/0! | G33: =+D33/$D$25 -> #DIV/0! | J33: Y4 | K33: =+BUDGET!U85 -> 0 | L33: =IFERROR(K33/$F$7,"-") -> - | N33: =IFERROR(N32+L33,"-") -> -
B34: Monitoring & Evaluation | C34: M&E | D34: =SUMIF(BUDGET!F:F, C34, BUDGET!K:K) -> 0 | F34: =+D34/$D$25 -> #DIV/0! | G34: =+D34/$D$25 -> #DIV/0! | J34: Total | K34: =SUM(K30:K33) -> 0 | L34: =IFERROR(K34/$F$7,"-") -> -

Sheet Explications
B3: Code | C3: Catégorie | D3: Sous-catégorie | E3: Description | F3: Comprend | G3: Exclut | H3: Justification du budget requise | I3: Notes | J3: Exemples
B4: FF | C4: Frais de fonctionnement | E4: Les frais de fonctionnement sont des coûts nécessaires et indispensables à l’atteinte des objectifs et résultats de l’action, en ce compris les coûts encourus pour réaliser des produits livrables vérifiables ; | F4: Coûts directs | G4: Frais de gestion et coûts structurels | J4: Au moment du rapportage : à justifier à l’aide de pièces justificatives
B5: RH | C5: Ressources humaines | D5: Personnel d’appui | E5: Coûts liés au personnel employé directement par le bénéficiaire et œuvrant à l’action. | F5: Salaires bruts ; cotisations sociales ; prestations légales ; indemnités (si elles sont conformes aux politiques internes) | G5: Consultant·es externes ; expert·es engagé·es à court terme dans le cadre de marchés de services | H5: Communiquer le rôle, le % d’affectation au projet, la base salariale (brut/mois) et la durée | I5: Veiller à la cohérence avec les politiques RH et les contrats de travail | J5: Contrat de travail ; registres payroll ; fiches de paie ; preuve de paiement ; timesheets (si l’affectation n’est pas à 100 %) ; méthode d’affectation ; description de fonction
B6: RH | C6: Ressources humaines | D6: Expert·es | E6: Coûts liés aux expert·es transversaux·ales ou techniques employé·es par le bénéficiaire du subside. | F6: Personnel spécialisé ; expert·es techniques ; fonctions transversales (p. ex., M&E, finances) | G6: Consultant·es externes (utiliser CON) | H6: Justifier l’expertise, le niveau d’effort et la pertinence par rapport au projet | I6: Préciser s’il s’agit d’une affectation à temps partiel ou à temps plein ; indiquer le pourcentage s’il ne s’agit pas d’un temps plein (timesheets nécessaires si pas un temps plein !) | J6: Fiches de paie, contrats de travail, timesheets
B7: VOY | C7: Voyage & per diems | D7: Voyage | E7: Frais de transport pour des missions liées à un projet. | F7: Vols ; trains ; transports locaux ; visas | G7: Déplacements domicile-travail réguliers (sauf justification) | H7: Indiquer l’objet du voyage, la destination, le nombre de trajets et le coût unitaire | I7: Utiliser des options de voyage économiques | J7: Ordre de mission ; autorisation de voyage ; billets d’avion/de train ; cartes d’embarquement ; factures ; preuve de paiement ; rapport de mission
B8: VOY | C8: Voyage & per diems | D8: Per diems | E8: Indemnités journalières pour l’hébergement, les repas et les frais divers engagés lors de missions. | F8: Hébergement ; repas ; frais divers | G8: Dépenses de loisirs ou non essentielles | H8: Indiquer le nombre de jours, le taux appliqué et la base (politique interne ou règles du donateur) | I8: Respecter les plafonds applicables aux per diems | J8: Ordre de mission ; justificatif de présence ; calcul des taux applicables ; taux prévus par la politique interne ; preuve de paiement
B9: CON | C9: Consultances | D9: Expert·es externes | E9: Frais liés aux consultant·es externes engagé·es pour des tâches spécifiques. | F9: Expert·es à court terme ; assistance technique ; études ; services de facilitation | G9: Frais de personnel (utiliser RH) | H9: Justifier la nécessité d’une expertise externe, la méthode de sélection et le tarif journalier | I9: Respecter les règles de passation de marchés | J9: Termes de référence (TdR) ; dossier du marché ; évaluation des offres ; contrat signé ; factures ; livrables/rapports ; preuve de paiement
B10: EVT | C10: Évènements | D10: Formations / ateliers | E10: Frais liés à l’organisation de formations, d’ateliers, de séminaires et de conférences. | F10: Location de salle ; restauration ; matériel ; interprétation ; animateur·rices | G10: Voyage des participant·es (utiliser TVL) ; frais de personnel (RH) | H10: Indiquer le nombre d’évènements, de participant·es et la ventilation des coûts unitaires | I10: Établir un lien clair avec les outputs du projet | J10: Ordre du jour ; listes de participant·es signées ; invitations ; factures ; documents du marché ; photos ou rapports ; preuve de paiement
B11: EQP | C11: Équipement & matériel | D11: Achat de matériel | E11: Achat du matériel nécessaire à la mise en œuvre du projet. | F11: Matériel informatique ; mobilier ; équipement technique | G11: Consommables ; services | H11: Justifier la nécessité, l’appropriation et le mode de passation | I11: Indiquer s’il reste du matériel à la fin du projet | J11: Dossier du marché ; factures ; bons de livraison ; registre des immobilisations ; preuve de paiement ; certificat de remise, si applicable
B12: SSB | C12: Sous-subsides | D12: Soutien financier à des tiers | E12: Fonds transférés à des tiers dans le cadre de cette action. | F12: Subsides alloués à des partenaires ou des bénéficiaires | G12: Marchés publics (CON) | H12: Préciser les critères de sélection, l’objectif et le calcul du montant | J12: Documentation de l’appel ; rapport du comité de sélection ; conventions de subsides signées ; rapports d’activité et rapports financiers ; preuve de transfert/paiement ; rapports de vérification
B13: AUT | C13: Autres frais | D13: Divers | E13: Frais n’entrant dans aucune autre catégorie (à titre exceptionnel uniquement). | F13: Frais exceptionnels ou imprévus | G13: Tout coût pouvant être classé ailleurs | H13: Une justification détaillée est obligatoire | J13: Note justificative détaillée ; factures ; preuve de paiement ; explication du pourquoi le coût ne peut être classé ailleurs
B14: MG | C14: Moyens généraux | E14: Frais d’assistance directement liés à l’action de la proposition, mais non imputables à une activité ou à un output spécifique. | F14: RH, voyages, frais de fonctionnement, investissements | G14: sous-subsides, coûts liés aux activités | H14: À justifier à l’aide de pièces justificatives | I14: Les coûts doivent rester proportionnés et directement liés à l’action. Le double financement avec des frais de fonctionnement ou de gestion est interdit.
B15: RH | C15: Ressources humaines | D15: Expert·es | E15: Coûts liés aux expert·es transversaux·ales appuyant partiellement ou entièrement l’action | F15: Expertise transversale | G15: Expert·es spécifiques à une activité, relevant du personnel chargé des activités et de la gestion ou de l’évaluation | H15: Indiquer la méthode d’affectation, le % d’affectation et les associer à la mise en œuvre de l’action | J15: Registres payroll ; méthode d’affectation ; timesheets en cas d’affectation partielle ; preuve de paiement
B16: RH | C16: Ressources humaines | D16: Personnel d’appui | E16: Le personnel administratif ou d’appui contribuant directement à la mise en œuvre de l’action. | F16: Appui administratif et financier ; appui logistique ; appui RH | G16: Expert·es ou personnel chargé de la gestion | H16: Indiquer la base d’affectation et la raison d’être | J16: Registres payroll ; méthode d’affectation ; timesheets en cas d’affectation partielle ; preuve de paiement
B17: FCT | C17: Frais de fonctionnement | D17: Voyage & per diems | E17: Frais de voyage liés au personnel budgétisés sur les moyens généraux | F17: visites sur le terrain/d’accompagnement ; tous les frais de voyage fondés sur les règles organisationnelles | G17: Voyage des participant·es aux activités | H17: Estimation du nombre de missions, des per diems et des tarifs de transport conformément aux règles | J17: Ordre de mission ; autorisation de voyage ; billets d’avion/de train ; cartes d’embarquement ; factures ; preuve de paiement ; rapport de mission Ordre de mission ; justificatif de présence ; calcul des taux applicables ; taux prévus par la politique interne ; preuve de paiement
B18: FCT | C18: Frais de fonctionnement | D18: Investissements | E18: Achat de véhicules et de matériel IT en appui à la mise en œuvre de l’action. | F18: achats de véhicules, d’IT et de fournitures de bureau spécifiquement nécessaires à la mise en œuvre de l’action | G18: Investissements généraux pour l’organisation | H18: Unité des articles et raison d’être | J18: Dossier du marché ; factures ; bons de livraison ; registre des immobilisations ; preuve de paiement ; certificat de remise, si applicable
B19: FCT | C19: Frais de fonctionnement | D19: Location et entretien de bureaux | E19: Frais de bureau partagés affectés en partie à l’action. | F19: Loyer ; ménage ; charges ; entretien | G19: Frais généraux de location et d’entretien des bureaux non liés à l’action | H19: Indiquer la méthode d’affectation (en % ou selon une base de calcul) | J19: Contrat de location ; factures ; clé de répartition ; preuve de paiement
B20: FCT | C20: Frais de fonctionnement | D20: Fournitures de bureau | E20: Consommables généraux ; papeterie ; impression | F20: Consommables généraux ; papeterie ; impression nécessaire à l’action | G20: Matériel de formation lié à des évènements spécifiques | J20: Factures ; justificatifs d’achat, si applicable ; registres de stock, le cas échéant ; preuve de paiement
B21: FCT | C21: Frais de fonctionnement | D21: Coût d’utilisation de véhicules | F21: Carburant ; assurance ; entretien ; frais de transport partagés | G21: Acquisition de véhicules | J21: Carnet de bord du véhicule ; factures de carburant ; factures d’entretien ; méthode d’affectation ; preuve de paiement
B22: FCT | C22: Frais de fonctionnement | D22: Autres services | E22: Nettoyage ; sécurité ; internet ; services de communication | F22: Services de consultance externes | J22: Marché de service ; factures ; rapports de services ; preuve de paiement
B23: FCT | C23: Frais de fonctionnement | D23: Frais bancaires | F23: Frais de virement ; frais bancaires (s’il s’agit d’un compte dédié au subside) | G23: frais bancaires liés aux comptes de l’organisation, pénalités ; intérêts sur la dette, pertes de change | J23: Extraits bancaires
B24: FG | C24: Frais de gestion | E24: Les frais de gestion sont des coûts identifiables liés à la gestion, la supervision, la coordination, au monitoring, au contrôle, à l’évaluation et à l’audit financier, et engendrés spécifiquement par la mise en œuvre de l’action ou la justification du subside ; | F24: Coûts directs | G24: Frais de fonctionnement et coûts structurels | H24: À justifier à l’aide de pièces justificatives
B25: RH | C25: Ressources humaines | D25: Personnel de coordination | E25: Personnel chargé de la coordination et de la supervision générales de l’action. | F25: Coordinateur·rices de projet ; responsables de programme | G25: Personnel chargé de la mise en œuvre technique | H25: Indiquer le % d’affectation, les responsabilités et la durée | J25: Registres payroll ; méthode d’affectation ; timesheets en cas d’affectation partielle ; preuve de paiement
B26: RH | C26: Ressources humaines | D26: Personnel administratif et financier | F26: Managers Finances et admin chargé·es du contrôle et de la supervision | G26: Personnel d’appui institutionnel couvert par les coûts structurels | J26: Registres payroll ; méthode d’affectation ; timesheets en cas d’affectation partielle ; preuve de paiement
B27: RH | C27: Ressources humaines | D27: Personnel chargé du monitoring et de l’évaluation | F27: M&E Officers ; analystes de données | G27: Évaluateur·rices externes | J27: Registres payroll ; méthode d’affectation ; timesheets en cas d’affectation partielle ; preuve de paiement
B28: EQP | C28: Équipement & matériel | D28: Véhicules | E28: Frais liés aux véhicules utilisés par le projet. | F28: Achat de véhicules ; contrats de location | G28: Carburant et entretien (utiliser OPR) | H28: Justifier la nécessité, l’utilisation et la base de calcul des coûts
B29: FCT | C29: Frais de fonctionnement | D29: Bureaux et charges | E29: Coûts liés à la gestion des activités du projet. | F29: Loyer des bureaux ; électricité ; eau ; internet ; communications | G29: Achat d’équipement (EQP) | H29: Indiquer la méthode d’affectation (p. ex., % des locaux utilisés pour le projet)
B30: FCT | C30: Frais de fonctionnement | D30: Fournitures et entretien | E30: Consommables et coûts d’entretien | F30: Fournitures de bureau ; petit matériel ; réparations | G30: Achat d’équipement (EQP) | H30: Justifier les estimations d’utilisation et de base de calcul des coûts | I30: Rester raisonnable et proportionné
B31: FCT | C31: Frais de fonctionnement | D31: Autres services | E31: Services généraux nécessaires à la mise en œuvre du projet. | F31: Services IT ; frais bancaires ; nettoyage ; sécurité | G31: Consultances (CON) | H31: Fournir une description et une justification du service
B32: M&E | C32: Monitoring & évaluation | D32: Évaluation, Audit | E32: Coûts liés aux évaluations internes ou externes de l’action et audits externes | F32: Évaluations à mi-parcours ; évaluations finales ; analyses d’impact; Audits externes | G32: Les rapports de certification des comptes annuels | H32: Fournir les TdR, la méthodologie et le mode de passation si externalisé | J32: TdR ; documents du marché ; rapports d’évaluation et d'audit ; factures ; preuve de paiement
B33: M&E | C33: Monitoring & évaluation | D33: Capitalisation et suivi scientifique | E33: Coûts liés à la gestion des connaissances, à la capitalisation des enseignements tirés et au suivi scientifique. | F33: Activités de recherche ; ateliers de capitalisation ; diffusion des enseignements tirés | G33: Activités de mise en œuvre opérationnelle | J33: Rapports de recherche ; comptes rendus d’ateliers ; supports de diffusion ; factures ; preuve de paiement
B34: CS | C34: Coûts structurels | E34: Les coûts structurels sont des coûts indirects liés au fonctionnement général et à la capacité institutionnelle du bénéficiaire. Bien qu’ils soient influencés par la mise en œuvre de l’action, ces coûts ne peuvent être identifiés de manière spécifique ni attribués directement à une activité ou à un output particulier de l’action. | F34: Les frais généraux s’élèvent à 7 % au maximum des frais de fonctionnement (point A ci-dessus). Il s’agit de dépenses liées à l’objectif commercial du bénéficiaire ; elles ne sont ni identifiables ni imputables au budget de l’action. | H34: Justification préalable effectuée avant signature accordée – sur la base des comptes annuels des deux dernières années – aucun justificatif requis lors de la mise en œuvre
B35: CS | C35: Coûts structurels | F35: Frais généraux institutionnels ; coûts de gouvernance ; administration générale, audit annuel du Collège des Commissaires, direction et cadres supérieur·es | J35: Justification ex ante approuvée avant la signature, sur la base des comptes annuels audités et de la méthodologie relative à la structure des coûts

Sheet Parameters
A3: RH | B3: Experts (staff employed by the grantee)
A4: VOY | B4: Voyages et per diems
A5: CON | B5: Consultances (external procured)
A6: EVT | B6: Events (Training, Workshops, conferences, seminars)
A7: EQP | B7: Material & equipment purchases
A8: SSB | B8: Sous-subsides
A9: AUT | B9: Autres coûts
A10: FCT | B10: Fonctionnement
A11: M&E | B11: Monitoring et évaluation
A13: Unit | B13: Meaning / Usage
A14: Day | B14: Expert days, consultancy days, trainings
A15: Month | B15: Monthly salary or long-term expertise
... A25: Per diem | B25: Daily allowance
A29: 615101 | B29: National/Local Public actor / institution
A30: 615102 | B30: International actor / institution
A31: 615103 | B31: Local private actors/ organisation
A32: 615104 | B32: Private local actor / organisation
A33: 615105 | B33: Belgian private actor / organisation
A34: 615106 | B34: Federal public institution
A35: 615107 | B35: Non-federal public institution
A36: 615108 | B36: Other actors
B38: Association
B39: Foundation
B40: Central government
B41: Decentralized public enity
B42: Deconcentrated public entity
B44: Headquarters (separate legal entity)
B45: Affiliated office (linked to an international network/entity)
B46: Local office (legally linked to another office)
B48: Call for proposal - no-cofinancing
B49: Direct Award - no-cofinancing
