Workbook
Name CG: [1]Budget!$I$71
Name CO: [1]Budget!$I$7
Name CS: [1]Budget!$I$90
Name CT: [1]Budget!$I$93
Name CT_Q1: [1]Budget!$K$93
Name CT_Q2: [1]Budget!$L$93
Name CT_Q3: [1]Budget!$M$93
Name CT_Q4: [1]Budget!$N$93
Name CT_Y2: [1]Budget!$O$93
Name CT_Y3: [1]Budget!$P$93
Name CT_Y4: [1]Budget!$Q$93
Name Grant_Ref: 'General Information'!$C$5
Name Grantee_Name: 'General Information'!$C$17
Name total_cost: '[2]Worksheet 1 Project budget'!$E$56
Name total_cost_y1: '[2]Worksheet 1 Project budget'!$I$56

Sheet General Information
B2: #VALUE! | E2: Partner logo
H3: complete the yelllow cells
H4: select from the drop down arrow
B5: External Ref Code Grant
B6: Process
B7: Version
B8: Date
B11: Expected Start Date
B12: Expected End Date
B13: Project Duration (months) | C13: =DATEDIF(C11,C12,"m")+1 -> 1
B16: Grantee information
B17: Organization Name
B18: Action Title
B19: Organization Type | D19: =IFERROR(_xlfn.XLOOKUP(C19,Parameters!B29:B36,Parameters!A29:A36),"")
B20: Legal status
B21: Office type

Sheet BUDGET
C1: BUDGET DETAILS | K1: Version | L1: ="V. "&TEXT('General Information'!C7,"00") -> V. 00
K2: Currency | L2: EUR
C3: ANNEX 1B | K3: Grant period | L3: =TEXT('General Information'!C11,"jj/mm/aaaa")&" - "&TEXT('General Information'!C12,"jj/mm/aaaa") -> 00/01/1900 - 00/01/1900
F5: Cost Category | G5: BudgetUnit | H5: Qty | I5: UnitCost | J5: AllocationRate | K5: TotaEnabelEUR | L5: ApplicantClarification | N5: Q1 | O5: Q2 | P5: Q3 | Q5: Q4 | R5: FY1 | S5: FY2 | T5: FY3 | U5: FY4 | X5: Control forecast
C6: A. Operational costs | K6: =+SUBTOTAL(9,K7:K62) -> 0 | N6: =+SUBTOTAL(9,N7:N62) -> 0 | O6: =+SUBTOTAL(9,O7:O62) -> 0 | P6: =+SUBTOTAL(9,P7:P62) -> 0 | Q6: =+SUBTOTAL(9,Q7:Q62) -> 0 | R6: =+SUBTOTAL(9,R7:R62) -> 0 | S6: =+SUBTOTAL(9,S7:S62) -> 0 | T6: =+SUBTOTAL(9,T7:T62) -> 0 | U6: =+SUBTOTAL(9,U7:U62) -> 0
A7: =+C7&D7 -> AO1 | C7: A | D7: O1 | E7: Output 1: | K7: =+SUBTOTAL(9,K8:K28) -> 0 | N7: =+SUBTOTAL(9,N8:N28) -> 0 | O7: =+SUBTOTAL(9,O8:O28) -> 0 | P7: =+SUBTOTAL(9,P8:P28) -> 0 | Q7: =+SUBTOTAL(9,Q8:Q28) -> 0 | R7: =+SUBTOTAL(9,R8:R28) -> 0 | S7: =+SUBTOTAL(9,S8:S28) -> 0 | T7: =+SUBTOTAL(9,T8:T28) -> 0 | U7: =+SUBTOTAL(9,U8:U28) -> 0
A8: =+C8&D8 -> A1.1 | C8: A | D8: 1.1 | E8: Activity 1 | K8: =+SUBTOTAL(9,K9:K14) -> 0 | N8: =+SUBTOTAL(9,N9:N14) -> 0 | O8: =+SUBTOTAL(9,O9:O14) -> 0 | P8: =+SUBTOTAL(9,P9:P14) -> 0 | Q8: =+SUBTOTAL(9,Q9:Q14) -> 0 | R8: =+SUBTOTAL(9,R9:R14) -> 0 | S8: =+SUBTOTAL(9,S9:S14) -> 0 | T8: =+SUBTOTAL(9,T9:T14) -> 0 | U8: =+SUBTOTAL(9,U9:U14) -> 0
A9: =+C9&D9 -> A1.1.1 | C9: A | D9: 1.1.1 | K9: =+H9*I9*J9 -> 0 | R9: =SUM(N9:Q9) -> 0
A10: =+C10&D10 -> A1.1.2 | C10: A | D10: 1.1.2 | K10: =+H10*I10*J10 -> 0 | R10: =SUM(N10:Q10) -> 0
A11: =+C11&D11 -> A1.1.3 | C11: A | D11: 1.1.3 | K11: =+H11*I11*J11 -> 0 | R11: =SUM(N11:Q11) -> 0
A12: =+C12&D12 -> A1.1.4 | C12: A | D12: 1.1.4 | K12: =+H12*I12*J12 -> 0 | R12: =SUM(N12:Q12) -> 0
A13: =+C13&D13 -> A1.1.5 | C13: A | D13: 1.1.5 | K13: =+H13*I13*J13 -> 0 | R13: =SUM(N13:Q13) -> 0
A14: =+C14&D14 -> A1.1.6 | C14: A | D14: 1.1.6 | K14: =+H14*I14*J14 -> 0 | R14: =SUM(N14:Q14) -> 0
A15: =+C15&D15 -> A1.2 | C15: A | D15: 1.2 | E15: Activity 2 | K15: =+SUBTOTAL(9,K16:K21) -> 0 | N15: =+SUBTOTAL(9,N16:N21) -> 0 | O15: =+SUBTOTAL(9,O16:O21) -> 0 | P15: =+SUBTOTAL(9,P16:P21) -> 0 | Q15: =+SUBTOTAL(9,Q16:Q21) -> 0 | R15: =+SUBTOTAL(9,R16:R21) -> 0 | S15: =+SUBTOTAL(9,S16:S21) -> 0 | T15: =+SUBTOTAL(9,T16:T21) -> 0 | U15: =+SUBTOTAL(9,U16:U21) -> 0
A16: =+C16&D16 -> A1.2.1 | C16: A | D16: 1.2.1 | K16: =+H16*I16*J16 -> 0 | R16: =SUM(N16:Q16) -> 0 | X16: =+#REF!-R16-S16-T16-U16 -> #REF!
A17: =+C17&D17 -> A1.2.2 | C17: A | D17: 1.2.2 | K17: =+H17*I17*J17 -> 0 | R17: =SUM(N17:Q17) -> 0 | X17: =+#REF!-R17-S17-T17-U17 -> #REF!
A18: =+C18&D18 -> A1.2.3 | C18: A | D18: 1.2.3 | K18: =+H18*I18*J18 -> 0 | R18: =SUM(N18:Q18) -> 0 | X18: =+#REF!-R18-S18-T18-U18 -> #REF!
A19: =+C19&D19 -> A1.2.4 | C19: A | D19: 1.2.4 | K19: =+H19*I19*J19 -> 0 | R19: =SUM(N19:Q19) -> 0
A20: =+C20&D20 -> A1.2.5 | C20: A | D20: 1.2.5 | K20: =+H20*I20*J20 -> 0 | R20: =SUM(N20:Q20) -> 0
A21: =+C21&D21 -> A1.2.6 | C21: A | D21: 1.2.6 | K21: =+H21*I21*J21 -> 0 | R21: =SUM(N21:Q21) -> 0
A22: =+C22&D22 -> A1.3 | C22: A | D22: 1.3 | E22: Activity 3 | K22: =+SUBTOTAL(9,K23:K28) -> 0 | N22: =+SUBTOTAL(9,N23:N28) -> 0 | O22: =+SUBTOTAL(9,O23:O28) -> 0 | P22: =+SUBTOTAL(9,P23:P28) -> 0 | Q22: =+SUBTOTAL(9,Q23:Q28) -> 0 | R22: =+SUBTOTAL(9,R23:R28) -> 0 | S22: =+SUBTOTAL(9,S23:S28) -> 0 | T22: =+SUBTOTAL(9,T23:T28) -> 0 | U22: =+SUBTOTAL(9,U23:U28) -> 0
A23: =+C23&D23 -> A1.3.1 | C23: A | D23: 1.3.1 | K23: =+H23*I23*J23 -> 0 | R23: =SUM(N23:Q23) -> 0 | X23: =+#REF!-R23-S23-T23-U23 -> #REF!
A24: =+C24&D24 -> A1.3.2 | C24: A | D24: 1.3.2 | K24: =+H24*I24*J24 -> 0 | R24: =SUM(N24:Q24) -> 0 | X24: =+#REF!-R24-S24-T24-U24 -> #REF!
A25: =+C25&D25 -> A1.3.3 | C25: A | D25: 1.3.3 | K25: =+H25*I25*J25 -> 0 | R25: =SUM(N25:Q25) -> 0 | X25: =+#REF!-R25-S25-T25-U25 -> #REF!
A26: =+C26&D26 -> A1.3.4 | C26: A | D26: 1.3.4 | K26: =+H26*I26*J26 -> 0 | R26: =SUM(N26:Q26) -> 0
A27: =+C27&D27 -> A1.3.5 | C27: A | D27: 1.3.5 | K27: =+H27*I27*J27 -> 0 | R27: =SUM(N27:Q27) -> 0
A28: =+C28&D28 -> A1.3.6 | C28: A | D28: 1.3.6 | K28: =+H28*I28*J28 -> 0 | R28: =SUM(N28:Q28) -> 0
A29: =+C29&D29 -> AO2 | C29: A | D29: O2 | E29: Output 2: | K29: =+SUBTOTAL(9,K30:K50) -> 0 | N29: =+SUBTOTAL(9,N30:N50) -> 0 | O29: =+SUBTOTAL(9,O30:O50) -> 0 | P29: =+SUBTOTAL(9,P30:P50) -> 0 | Q29: =+SUBTOTAL(9,Q30:Q50) -> 0 | R29: =+SUBTOTAL(9,R30:R50) -> 0 | S29: =+SUBTOTAL(9,S30:S50) -> 0 | T29: =+SUBTOTAL(9,T30:T50) -> 0 | U29: =+SUBTOTAL(9,U30:U50) -> 0
A30: =+C30&D30 -> A2.1 | C30: A | D30: 2.1 | E30: Activity 1 | K30: =+SUBTOTAL(9,K31:K36) -> 0 | N30: =+SUBTOTAL(9,N31:N36) -> 0 | O30: =+SUBTOTAL(9,O31:O36) -> 0 | P30: =+SUBTOTAL(9,P31:P36) -> 0 | Q30: =+SUBTOTAL(9,Q31:Q36) -> 0 | R30: =+SUBTOTAL(9,R31:R36) -> 0 | S30: =+SUBTOTAL(9,S31:S36) -> 0 | T30: =+SUBTOTAL(9,T31:T36) -> 0 | U30: =+SUBTOTAL(9,U31:U36) -> 0
A31: =+C31&D31 -> A2.1.1 | C31: A | D31: 2.1.1 | K31: =+H31*I31*J31 -> 0 | R31: =SUM(N31:Q31) -> 0
A32: =+C32&D32 -> A2.1.2 | C32: A | D32: 2.1.2 | K32: =+H32*I32*J32 -> 0 | R32: =SUM(N32:Q32) -> 0
A33: =+C33&D33 -> A2.1.3 | C33: A | D33: 2.1.3 | K33: =+H33*I33*J33 -> 0 | R33: =SUM(N33:Q33) -> 0
A34: =+C34&D34 -> A2.1.4 | C34: A | D34: 2.1.4 | K34: =+H34*I34*J34 -> 0 | R34: =SUM(N34:Q34) -> 0
A35: =+C35&D35 -> A2.1.5 | C35: A | D35: 2.1.5 | K35: =+H35*I35*J35 -> 0 | R35: =SUM(N35:Q35) -> 0
A36: =+C36&D36 -> A2.1.6 | C36: A | D36: 2.1.6 | K36: =+H36*I36*J36 -> 0 | R36: =SUM(N36:Q36) -> 0
A37: =+C37&D37 -> A2.2 | C37: A | D37: 2.2 | E37: Activity 2 | K37: =+SUBTOTAL(9,K38:K43) -> 0 | N37: =+SUBTOTAL(9,N38:N43) -> 0 | O37: =+SUBTOTAL(9,O38:O43) -> 0 | P37: =+SUBTOTAL(9,P38:P43) -> 0 | Q37: =+SUBTOTAL(9,Q38:Q43) -> 0 | R37: =+SUBTOTAL(9,R38:R43) -> 0 | S37: =+SUBTOTAL(9,S38:S43) -> 0 | T37: =+SUBTOTAL(9,T38:T43) -> 0 | U37: =+SUBTOTAL(9,U38:U43) -> 0
A38: =+C38&D38 -> A2.2.1 | C38: A | D38: 2.2.1 | K38: =+H38*I38*J38 -> 0 | R38: =SUM(N38:Q38) -> 0 | X38: =+#REF!-R38-S38-T38-U38 -> #REF!
A39: =+C39&D39 -> A2.2.2 | C39: A | D39: 2.2.2 | K39: =+H39*I39*J39 -> 0 | R39: =SUM(N39:Q39) -> 0 | X39: =+#REF!-R39-S39-T39-U39 -> #REF!
A40: =+C40&D40 -> A2.2.3 | C40: A | D40: 2.2.3 | K40: =+H40*I40*J40 -> 0 | R40: =SUM(N40:Q40) -> 0 | X40: =+#REF!-R40-S40-T40-U40 -> #REF!
A41: =+C41&D41 -> A2.2.4 | C41: A | D41: 2.2.4 | K41: =+H41*I41*J41 -> 0 | R41: =SUM(N41:Q41) -> 0
...

Sheet BUDGET_SUM
N2: Version | O2: ="V. "&TEXT('General Information'!C7,"00") -> V. 00
B3: BUDGET SUMMARY | N3: Currency | O3: EUR
B4: Financial Overview | N4: Grant Period | O4: =TEXT('General Information'!C11,"jj/mm/aaaa")&" - "&TEXT('General Information'!C12,"jj/mm/aaaa") -> 00/01/1900 - 00/01/1900
B6: Total Action Budget
B7: =+BUDGET!K85 -> 0
B9: Intervention Logical Framework | J9: Totals (EUR)
B11: Intervention Logic | D11: Total Enabel EUR | F11: % | J11: TotalAction | K11: =SUM(K14:K16) -> 0 | L11: =SUM(L14:L16) -> #DIV/0!
B14: Total | D14: =SUM(D15:D21) -> 0 | F14: =+D14/D14 -> #DIV/0! | J14: Operational Costs | K14: =+BUDGET!K6 -> 0 | L14: =+K14/$B$7 -> #DIV/0!
B15: Output 1 | C15: {=UPPER(LEFT(B15) & INDEX(_xlfn.TEXTSPLIT(B15, " "), COLUMNS(_xlfn.TEXTSPLIT(B15, " "))))} -> O1 | D15: =SUMIF(BUDGET!D:D, C15, BUDGET!K:K) -> 0 | F15: =+D15/$D$14 -> #DIV/0! | J15: Management Costs | K15: =+BUDGET!K66 -> 0 | L15: =+K15/$B$7 -> #DIV/0!
B16: Output 2 | C16: {=UPPER(LEFT(B16) & INDEX(_xlfn.TEXTSPLIT(B16, " "), COLUMNS(_xlfn.TEXTSPLIT(B16, " "))))} -> O2 | D16: =SUMIF(BUDGET!D:D, C16, BUDGET!K:K) -> 0 | F16: =+D16/$D$14 -> #DIV/0! | J16: Structural Costs | K16: =+BUDGET!K81 -> 0 | L16: =+K16/$B$7 -> #DIV/0!
B17: Output 3 | C17: {=UPPER(LEFT(B17) & INDEX(_xlfn.TEXTSPLIT(B17, " "), COLUMNS(_xlfn.TEXTSPLIT(B17, " "))))} -> O3 | D17: =SUMIF(BUDGET!D:D, C17, BUDGET!K:K) -> 0 | F17: =+D17/$D$14 -> #DIV/0!
B18: Output 4 | C18: {=UPPER(LEFT(B18) & INDEX(_xlfn.TEXTSPLIT(B18, " "), COLUMNS(_xlfn.TEXTSPLIT(B18, " "))))} -> O4 | D18: =SUMIF(BUDGET!D:D, C18, BUDGET!K:K) -> 0 | F18: =+D18/$D$14 -> #DIV/0!
B19: GeneralMeans | C19: GM | D19: =SUMIF(BUDGET!D:D, C19, BUDGET!K:K) -> 0 | F19: =+D19/$D$14 -> #DIV/0!
B20: ManagementCost | C20: MC | D20: =SUMIF(BUDGET!D:D, C20, BUDGET!K:K) -> 0 | F20: =+D20/$D$14 -> #DIV/0!
B21: StructureCost | C21: SC | D21: =SUMIF(BUDGET!D:D, C21, BUDGET!K:K) -> 0 | F21: =+D21/$D$14 -> #DIV/0!
B23: Cost Categories | C23: Code | D23: Totals | F23: % | G23: % | J23: Expenditure Plan
B25: Total | D25: =SUM(D26:D34) -> 0 | G25: =+D25/D25 -> #DIV/0! | J25: Period | K25: Budget amount | L25: % of the total budget | N25: % cumulative of the total budget
B26: Human Resources | C26: HR | D26: =SUMIF(BUDGET!F:F, C26, BUDGET!K:K) -> 0 | F26: =+D26/$D$25 -> #DIV/0! | G26: =+D26/$D$25 -> #DIV/0! | J26: Q1 | K26: =+BUDGET!N85 -> 0 | L26: =IFERROR(K26/$B$7,"-") -> - | N26: =L26 -> -
B27: Travel & per diems | C27: TRV | D27: =SUMIF(BUDGET!F:F, C27, BUDGET!K:K) -> 0 | F27: =+D27/$D$25 -> #DIV/0! | G27: =+D27/$D$25 -> #DIV/0! | J27: Q2 | K27: =+BUDGET!O85 -> 0 | L27: =IFERROR(K27/$B$7,"-") -> - | N27: =IFERROR(N26+L27,"-") -> -
B28: Consultancies | C28: CON | D28: =SUMIF(BUDGET!F:F, C28, BUDGET!K:K) -> 0 | F28: =+D28/$D$25 -> #DIV/0! | G28: =+D28/$D$25 -> #DIV/0! | J28: Q3 | K28: =+BUDGET!P85 -> 0 | L28: =IFERROR(K28/$B$7,"-") -> - | N28: =IFERROR(N27+L28,"-") -> -
B29: Events | C29: EVT | D29: =SUMIF(BUDGET!F:F, C29, BUDGET!K:K) -> 0 | F29: =+D29/$D$25 -> #DIV/0! | G29: =+D29/$D$25 -> #DIV/0! | J29: Q4 | K29: =+BUDGET!Q85 -> 0 | L29: =IFERROR(K29/$B$7,"-") -> - | N29: =IFERROR(N28+L29,"-") -> -
B30: Equipment & Materials | C30: EQP | D30: =SUMIF(BUDGET!F:F, C30, BUDGET!K:K) -> 0 | F30: =+D30/$D$25 -> #DIV/0! | G30: =+D30/$D$25 -> #DIV/0! | J30: Y1 | K30: =SUM(K26:K29) -> 0 | L30: =IFERROR(K30/$B$7,"-") -> - | N30: =+L30 -> -
B31: Sub-grants | C31: SGR | D31: =SUMIF(BUDGET!F:F, C31, BUDGET!K:K) -> 0 | F31: =+D31/$D$25 -> #DIV/0! | G31: =+D31/$D$25 -> #DIV/0! | J31: Y2 | K31: =+BUDGET!S85 -> 0 | L31: =IFERROR(K31/$B$7,"-") -> - | N31: =IFERROR(N30+L31,"-") -> -
B32: Other Costs | C32: OTH | D32: =SUMIF(BUDGET!F:F, C32, BUDGET!K:K) -> 0 | F32: =+D32/$D$25 -> #DIV/0! | G32: =+D32/$D$25 -> #DIV/0! | J32: Y3 | K32: =+BUDGET!T85 -> 0 | L32: =IFERROR(K32/$B$7,"-") -> - | N32: =IFERROR(N31+L32,"-") -> -
B33: Functioning costs | C33: FCT | D33: =SUMIF(BUDGET!F:F, C33, BUDGET!K:K) -> 0 | F33: =+D33/$D$25 -> #DIV/0! | G33: =+D33/$D$25 -> #DIV/0! | J33: Y4 | K33: =+BUDGET!U85 -> 0 | L33: =IFERROR(K33/$B$7,"-") -> - | N33: =IFERROR(N32+L33,"-") -> -
B34: Monitoring & evaluation | C34: M&E | D34: =SUMIF(BUDGET!F:F, C34, BUDGET!K:K) -> 0 | F34: =+D34/$D$25 -> #DIV/0! | G34: =+D34/$D$25 -> #DIV/0! | J34: Total | K34: =SUM(K30:K33) -> 0 | L34: =IFERROR(K34/$B$7,"-") -> -

Sheet Explanations
B3: Code | C3: Category | D3: Subcategory | E3: Description | F3: Includes | G3: Excludes | H3: Budget Justification required | I3: Notes | J3: Examples
B4: OC | C4: Operational costs | E4: Operational costs are costs necessary and essential to achieve the objectives and results of the action, including the cost of achieving verifiable deliverables; | F4: Direct costs | G4: Management and structural costs | J4: During reporting To be justified with supporting documents
B5: HR | C5: Human Resources | D5: Support staff | E5: Costs for staff employed directly by the grantee and working on the action. | F5: Gross salaries; social security contributions; statutory benefits; allowances (if compliant with internal policies) | G5: External consultants; short-term experts hired via service contracts | H5: Provide role, % allocation to project, salary basis (gross/month), and duration | I5: Ensure consistency with HR policies and employment contracts | J5: Employment contract; payroll records; salary slips; proof of payment; timesheets (if not 100% allocated); allocation methodology; job description
B6: HR | C6: Human Resources | D6: Experts | E6: Costs for transversal or technical experts employed by the grantee. | F6: Specialized staff; technical experts; cross-cutting roles (e.g. M&E, finance) | G6: External consultants (use CON) | H6: Justify expertise, level of effort, and relevance to project | I6: Clarify if part-time or full-time allocation; indicate % if ot full-time (timesheets needed if not full-time!) | J6: Salary slips, Employment contracts, timesheets
B7: TRV | C7: Travel & per diems | D7: Travel | E7: Costs of transportation for project-related missions. | F7: Flights; trains; local transport; visas | G7: Regular commuting (unless justified) | H7: Provide purpose of travel, destination, number of trips, and unit cost | I7: Use economical travel options | J7: Mission order; travel authorization; flight/train tickets; boarding passes; invoices; proof of payment; mission report
B8: TRV | C8: Travel & per diems | D8: Per diems | E8: Daily allowances for accommodation, meals and incidentals during missions. | F8: Accommodation; meals; incidentals | G8: Entertainment or non-essential expenses | H8: Provide number of days, rate applied, and basis (internal policy or donor rules) | I8: Respect applicable per diem ceilings | J8: Mission order; attendance evidence; calculation of applicable rates; internal policy rates; proof of payment
B9: CON | C9: Consultancies | D9: External experts | E9: Costs for external consultants contracted for specific tasks. | F9: Short-term experts; technical assistance; studies; facilitation services | G9: Staff costs (use HR) | H9: Justify need for external expertise, selection method, and daily rate | I9: Follow procurement rules | J9: Terms of Reference (TOR); procurement file; offer evaluation; signed contract; invoices; deliverables/reports; proof of payment
B10: EVT | C10: Events | D10: Trainings / workshops | E10: Costs for organizing trainings, workshops, seminars and conferences. | F10: Venue rental; catering; materials; interpretation; facilitators | G10: Participant travel (use TVL); staff costs (HR) | H10: Provide number of events, participants, and unit cost breakdown | I10: Link clearly to project outputs | J10: Agenda; participant lists signed; invitations; invoices; procurement documents; photos or reports; proof of payment
B11: EQP | C11: Equipment & Materials | D11: Equipment purchase | E11: Purchase of equipment necessary for project implementation. | F11: IT equipment; furniture; technical equipment | G11: Consumables; services | H11: Justify necessity, ownership, and procurement method | I11: Indicate if equipment remains after project | J11: Procurement file; invoices; delivery notes; asset register; proof of payment; handover certificate if applicable
B12: SGR | C12: Sub-grants | D12: Financial support to third parties | E12: Funds transferred to third parties as part of the action. | F12: Grants to partners or beneficiaries | G12: Procurement contracts (CON) | H12: Provide selection criteria, purpose, and amount calculation | J12: Call documentation; selection committee report; signed sub-grant agreements; narrative and financial reports; proof of transfer/payment,, verification reports
B13: OTH | C13: Other Costs | D13: Miscellaneous | E13: Costs not falling under other categories (exceptional use only). | F13: Exceptional or unforeseen costs | G13: Any cost that can be classified elsewhere | H13: Mandatory detailed justification required | J13: Detailed justification note; invoices; proof of payment; explanation why the cost cannot be classified elsewhere
B14: GM | C14: General Means | E14: Support costs directly linked to the Action of the proposal but not attributable to a specific activity or output. | F14: HR, Travel, running costs, investments | G14: sub-grants, activity costs | H14: To be justified with supporting documents | I14: Costs must remain proportionate and directly linked to the Action. Double funding with operational or management costs is prohibited.
B15: HR | C15: Human Resources | D15: Experts | E15: Costs related to transversal experts partially or fully supporting the Action | F15: Transversal expertise | G15: Activity-specific experts charged under the activities & management or evaluation staff | H15: Provide allocation methodology, % allocation, and link to Action implementation | J15: Payroll records; allocation methodology; timesheets if partially allocated; proof of payment
B16: HR | C16: Human Resources | D16: Support staff | E16: Administrative or support staff contributing directly to the Action implementation. | F16: Administrative & finance support; logistics support; HR support | G16: Experts or management staff | H16: Provide allocation basis and rationale | J16: Payroll records; allocation methodology; timesheets if partially allocated; proof of payment
B17: FCT | C17: Functioning costs | D17: Travel & per diems | E17: Travel costs linked to staff budgeted under general means | F17: field/support visits, all travel cost based on organizational regulations | G17: Activity participant travel | H17: Estimate of number of missions, per diem & transport rates according to the regulations | J17: Mission order; travel authorization; flight/train tickets; boarding passes; invoices; proof of payment; mission report Mission order; attendance evidence; calculation of applicable rates; internal policy rates; proof of payment
B18: FCT | C18: Functioning costs | D18: Investments | E18: Vehicle and IT costs supporting the implementation of the Action. | F18: vehicles, IT and office purchases specifically needed to implement the Action | G18: General investments for the organization | H18: Unit of items and rationale | J18: Procurement file; invoices; delivery notes; asset register; proof of payment; handover certificate if applicable
B19: FCT | C19: Functioning costs | D19: Office rental and maintenance | E19: Shared office costs partially allocated to the Action. | F19: Rent; cleaning; utilities; maintenance | G19: General office rental and maintenance not linked to the Action | H19: Provide allocation methodology (% or calculation basis) | J19: Lease agreement; invoices; allocation key proof of payment
B20: FCT | C20: Functioning costs | D20: Office supplies | E20: General consumables; stationery; printing | F20: General consumables; stationery; printing needed for the Action | G20: Training materials linked to specific events | J20: Invoices; procurement evidence if applicable; stock records where relevant; proof of payment
B21: FCT | C21: Functioning costs | D21: Vehicle use cost | F21: Fuel; insurance; maintenance; shared transport costs | G21: Vehicle acquisition | J21: Vehicle logbook; fuel invoices; maintenance invoices; allocation methodology; proof of payment
B22: FCT | C22: Functioning costs | D22: Other services | E22: Cleaning; security; internet; communication services | F22: External consultancy services | J22: Service contracts; invoices; service reports; proof of payment
B23: FCT | C23: Functioning costs | D23: Bank charges | F23: Transfer fees; bank account charges (if a dedicated grant account) | G23: bank charges for organization accounts, Penalties; interest on debt, exchange rate losses | J23: Bank statements
B24: MC | C24: Management costs | E24: Management costs are identifiable costs related to management, supervision, coordination, monitoring, control, reporting, evaluation and financial audit which specifically originate in the implementation of the action or the justification of the grant; | F24: Direct costs | G24: Operational and structural costs | H24: To be justified with supporting documents
B25: HR | C25: Human Resources | D25: Coordination staff | E25: Staff responsible for overall coordination and supervision of the Action. | F25: Project coordinators; programme managers | G25: Technical implementation staff | H25: Provide allocation %, responsibilities, and duration | J25: Payroll records; allocation methodology; timesheets if partially allocated; proof of payment
B26: HR | C26: Human Resources | D26: Administrative and financial staff | F26: Finance & admin managers for oversight and supervision | G26: Institutional support staff covered under structural costs | J26: Payroll records; allocation methodology; timesheets if partially allocated; proof of payment
B27: HR | C27: Human Resources | D27: Monitoring & evaluation staff | F27: M&E officers; data analysts | G27: External evaluators | J27: Payroll records; allocation methodology; timesheets if partially allocated; proof of payment
B28: FCT | C28: Functioning costs | D28: Vehicles | E28: Costs related to vehicles for project use. | F28: Vehicle purchase; lease agreements | G28: Fuel and maintenance (use OPR) | H28: Justify need, usage, and cost basis
B29: FCT | C29: Functioning costs | D29: Office & utilities | E29: Costs for running project operations. | F29: Office rent; electricity; water; internet; communications | G29: Equipment purchase (EQP) | H29: Provide allocation method (e.g. % of office used for project)
B30: FCT | C30: Functioning costs | D30: Supplies & maintenance | E30: Consumables and maintenance costs. | F30: Office supplies; small materials; repairs | G30: Equipment purchase (EQP) | H30: Justify estimated usage and cost basis | I30: Keep reasonable and proportionate
B31: FCT | C31: Functioning costs | D31: Other services | E31: General services required for project implementation. | F31: IT services; bank charges; cleaning; security | G31: Consultancies (CON) | H31: Provide description and justification of service
B32: M&E | C32: Monitoring & evaluation | D32: Evaluation, Audits | E32: Costs related to internal or external evaluations of the Action and external audits | F32: Mid-term evaluations; final evaluations; impact assessments, External audits | G32: Certification reports on the annual accounts | H32: Provide TOR, methodology, and procurement method if external | J32: TOR; procurement documents; evaluation, audit reports; invoices; proof of payment
B33: M&E | C33: Monitoring & evaluation | D33: Capitalization and scientific monitoring | E33: Costs linked to knowledge management, capitalization of lessons learned, and scientific follow-up. | F33: Research activities; capitalization workshops; dissemination of lessons learned | G33: Operational implementation activities | J33: Research reports; workshop reports; dissemination materials; invoices; proof of payment
B34: SC | C34: Structural costs | E34: Structural costs are indirect costs related to the beneficiary’s general functioning and institutional capacity. Although influenced by the implementation of the Action, these costs cannot be specifically identified or directly attributed to a particular activity or output of the Action. | F34: The overhead costs amount to a maximum of 7% of the operational costs (point A above). These are the costs related to the beneficiary's business purpose, they are neither identifiable nor chargeable to the budget of the action. | H34: Prior justifation done before signature grant - based on annual financial statements of previous 2 years - no supporting documents needed during implementation
B35: SC | C35: Structural costs | F35: Institutional overheads; governance costs; general administration, annual statutory audit, direction & higher management staff | J35: Ex ante justification approved before signature based on audited financial statements and cost structure methodology

Sheet Parameters
A3: HR | B3: Experts (staff employed by the grantee)
A4: TRV | B4: Travel & Per diems
A5: CON | B5: Consultancies (external procured)
A6: EVT | B6: Events (Training, Workshops, conferences, seminars)
A7: EQP | B7: Material & equipment purchases
A8: SGR | B8: Sub-Grants
A9: OTH | B9: Other costs
A10: FCT | B10: Functioning costs
A11: M&E | B11: Monitoring & evaluation
A13: Unit | B13: Meaning / Usage
A14: Day | B14: Expert days, consultancy days, trainings
A15: Month | B15: Monthly salary or long-term expertise
... A25: Per diem | B25: Daily allowance
A29: 615101 | B29: National/Local Public actor / institution
A30: 615102 | B30: International actor / institution
A31: 615103 | B31: Local private actors/ organisation
A32: 615104 | B32: Private local actor / organisation
A33: 615105 | B33: Belgian private actor / organisation
A34: 615106 | B34: Federal public institution
A35: 615107 | B35: Non-federal public institution
A36: 615108 | B36: Other actors
B38: Association
B39: Foundation
B40: Central government
B41: Decentralized public enity
B42: Deconcentrated public entity
B44: Headquarters (separate legal entity)
B45: Affiliated office (linked to an international network/entity)
B46: Local office (legally linked to another office)
B48: Call for proposal - no-cofinancing
B49: Direct Award - no-cofinancing
